BEGIN:VCALENDAR
VERSION:2.0
PRODID:-//United Nations Alliance of Civilizations (UNAOC) - ECPv6.15.20//NONSGML v1.0//EN
CALSCALE:GREGORIAN
METHOD:PUBLISH
X-ORIGINAL-URL:https://www.unaoc.org
X-WR-CALDESC:Events for United Nations Alliance of Civilizations (UNAOC)
REFRESH-INTERVAL;VALUE=DURATION:PT1H
X-Robots-Tag:noindex
X-PUBLISHED-TTL:PT1H
BEGIN:VTIMEZONE
TZID:America/Halifax
BEGIN:DAYLIGHT
TZOFFSETFROM:-0400
TZOFFSETTO:-0300
TZNAME:ADT
DTSTART:20230312T060000
END:DAYLIGHT
BEGIN:STANDARD
TZOFFSETFROM:-0300
TZOFFSETTO:-0400
TZNAME:AST
DTSTART:20231105T050000
END:STANDARD
BEGIN:DAYLIGHT
TZOFFSETFROM:-0400
TZOFFSETTO:-0300
TZNAME:ADT
DTSTART:20240310T060000
END:DAYLIGHT
BEGIN:STANDARD
TZOFFSETFROM:-0300
TZOFFSETTO:-0400
TZNAME:AST
DTSTART:20241103T050000
END:STANDARD
BEGIN:DAYLIGHT
TZOFFSETFROM:-0400
TZOFFSETTO:-0300
TZNAME:ADT
DTSTART:20250309T060000
END:DAYLIGHT
BEGIN:STANDARD
TZOFFSETFROM:-0300
TZOFFSETTO:-0400
TZNAME:AST
DTSTART:20251102T050000
END:STANDARD
END:VTIMEZONE
BEGIN:VEVENT
DTSTART;TZID=America/Halifax:20241030T150000
DTEND;TZID=America/Halifax:20241030T163000
DTSTAMP:20260422T021538
CREATED:20241024T151307Z
LAST-MODIFIED:20241024T151307Z
UID:34964-1730300400-1730305800@www.unaoc.org
SUMMARY:Informal Briefing to UNAOC Group Friends on the 10th UNAOC Global Forum
DESCRIPTION:The Permanent Mission of Portugal to the United Nations and the United Nations Alliance of Civilizations (UNAOC) are co-organizing an Informal Briefing on the 10th UNAOC Global Forum\, which is scheduled to take place in the city of Cascais\, Portugal on 25–27 November 2024. \nThe Informal Briefing\, co-chaired by H.E. Mr. Rui Vinhas\, the Permanent Representative of Portugal to the United Nations\, and H.E. Mr. Miguel Ángel Moratinos\, Under-Secretary-General and High Representative for UNAOC\, will be convened in Conference Room 8 at the United Nations headquarters in New York on Wednesday\, 30 October\, from 3:00 pm to 4:30pm.  \nThe latest official programme of the event\, the registration procedure and attendance\, protocol arrangements as well as expected outcomes of the Global Forum\, will be presented at the Informal Briefing. An interactive Q&A session will be held to address queries and any pending issues.
URL:https://www.unaoc.org/event/informal-briefing-to-unaoc-group-friends-on-the-10th-unaoc-global-forum/
LOCATION:Conference Room 8
END:VEVENT
END:VCALENDAR