BEGIN:VCALENDAR
VERSION:2.0
PRODID:-//United Nations Alliance of Civilizations (UNAOC) - ECPv6.15.20//NONSGML v1.0//EN
CALSCALE:GREGORIAN
METHOD:PUBLISH
X-ORIGINAL-URL:https://www.unaoc.org
X-WR-CALDESC:Events for United Nations Alliance of Civilizations (UNAOC)
REFRESH-INTERVAL;VALUE=DURATION:PT1H
X-Robots-Tag:noindex
X-PUBLISHED-TTL:PT1H
BEGIN:VTIMEZONE
TZID:America/Halifax
BEGIN:DAYLIGHT
TZOFFSETFROM:-0400
TZOFFSETTO:-0300
TZNAME:ADT
DTSTART:20170312T060000
END:DAYLIGHT
BEGIN:STANDARD
TZOFFSETFROM:-0300
TZOFFSETTO:-0400
TZNAME:AST
DTSTART:20171105T050000
END:STANDARD
BEGIN:DAYLIGHT
TZOFFSETFROM:-0400
TZOFFSETTO:-0300
TZNAME:ADT
DTSTART:20180311T060000
END:DAYLIGHT
BEGIN:STANDARD
TZOFFSETFROM:-0300
TZOFFSETTO:-0400
TZNAME:AST
DTSTART:20181104T050000
END:STANDARD
BEGIN:DAYLIGHT
TZOFFSETFROM:-0400
TZOFFSETTO:-0300
TZNAME:ADT
DTSTART:20190310T060000
END:DAYLIGHT
BEGIN:STANDARD
TZOFFSETFROM:-0300
TZOFFSETTO:-0400
TZNAME:AST
DTSTART:20191103T050000
END:STANDARD
END:VTIMEZONE
BEGIN:VEVENT
DTSTART;VALUE=DATE:20180123
DTEND;VALUE=DATE:20180303
DTSTAMP:20260421T134536
CREATED:20180123T193030Z
LAST-MODIFIED:20180214T191925Z
UID:22986-1516665600-1520035199@www.unaoc.org
SUMMARY:Youth Solidarity Fund: Call For Applications
DESCRIPTION:The Youth Solidarity Fund (YSF) supports youth-led organizations that foster peaceful and inclusive societies by providing seed funding to outstanding projects promoting intercultural and interfaith dialogue. It awards grants (up to USD 25\,000) for the implementation of selected projects that demonstrate innovative and effective approaches to intercultural or interfaith dialogue and advance the mission of UNAOC. YSF only supports projects that are entirely developed and managed by youth for the benefit of youth. The age definition used by UNAOC to characterize youth is a person who is between 18 and 35 years old. \n\nEligibility: Youth-led organizations (18-35 years old) from select countries\nGrant Details: Up to USD 25\,000 to implement intercultural and interfaith dialogue projects\nProject Duration: 6 months\nApplication deadline: 2 March 2018\, 5:00 p.m. Eastern Standard Time in New York (deadline extended)\n\nFor complete details on how to apply\, eligibility and selection criteria\, consult the Application Guidelines. \n  \nApply for the Youth Solidarity Fund Now \n 
URL:https://www.unaoc.org/event/ysf2018-call-for-applications/
CATEGORIES:Calls For Applications
END:VEVENT
BEGIN:VEVENT
DTSTART;VALUE=DATE:20180221
DTEND;VALUE=DATE:20180604
DTSTAMP:20260421T134536
CREATED:20180222T162307Z
LAST-MODIFIED:20180222T162421Z
UID:23176-1519171200-1528070399@www.unaoc.org
SUMMARY:Call for Video Entries: PLURAL+ 2018 Youth Video Festival
DESCRIPTION:The United Nations Alliance of Civilizations (UNAOC) and the International Organization for Migration (IOM) invite youth from around the world to submit original and creative videos focusing on the PLURAL+ theme of migration\, diversity and social inclusion. Click here to learn more. \nSubmit your videos here
URL:https://www.unaoc.org/event/call-for-video-entries-plural-2018-youth-video-festival/
CATEGORIES:Calls For Applications
END:VEVENT
BEGIN:VEVENT
DTSTART;VALUE=DATE:20180302
DTEND;VALUE=DATE:20180326
DTSTAMP:20260421T134536
CREATED:20180302T191249Z
LAST-MODIFIED:20180322T170045Z
UID:23254-1519948800-1522022399@www.unaoc.org
SUMMARY:Vacancy Announcement: Education Intern
DESCRIPTION:The United Nations Alliance of Civilizations is looking for an Education Intern for its New York office. \nThe Education Intern will work under the direct\, overall supervision of the UNAOC Media and Information Literacy Project Manager. \nDeadline is 25 March 2018. Applications to vacancies must be received before midnight Copenhagen time (CET) on the closing date of the announcement. Click here to learn more about this vacancy. \nApply for this vacancy now
URL:https://www.unaoc.org/event/vacancy-announcement-education-intern/
CATEGORIES:Vacancy Announcements
END:VEVENT
BEGIN:VEVENT
DTSTART;TZID=America/Halifax:20180308T090000
DTEND;TZID=America/Halifax:20180308T103000
DTSTAMP:20260421T134536
CREATED:20180306T174349Z
LAST-MODIFIED:20180306T174349Z
UID:23289-1520499600-1520505000@www.unaoc.org
SUMMARY:Intercultural Innovation Award Webinar on Donor Networking: Creating Lasting Relationships
DESCRIPTION:Note: This event is open to Intercultural Innovation Award recipients only.
URL:https://www.unaoc.org/event/intercultural-innovation-award-webinar-on-donor-networking-creating-lasting-relationships-2/
LOCATION:Online
CATEGORIES:UNAOC Events
END:VEVENT
BEGIN:VEVENT
DTSTART;VALUE=DATE:20180320
DTEND;VALUE=DATE:20180323
DTSTAMP:20260421T134536
CREATED:20180314T160808Z
LAST-MODIFIED:20180314T162154Z
UID:23321-1521504000-1521763199@www.unaoc.org
SUMMARY:Annual Meeting of the United Nations Inter-Agency Network on Youth Development
DESCRIPTION:UNAOC will be participating in the Annual Meeting of the United Nations Inter-Agency Network on Youth Development (UN IANYD) taking place from 20 to 22 March 2018. The meeting will be hosted by the incoming co-chair\, The United Nations Human Settlements Programme (UN–Habitat) in Nairobi\, Kenya.
URL:https://www.unaoc.org/event/united-nations-inter-agency-network-on-youth-development-annual-meeting/
LOCATION:Nairobi\, Kenya\, Nairobi\, Kenya
CATEGORIES:International Conference
END:VEVENT
BEGIN:VEVENT
DTSTART;VALUE=DATE:20180322
DTEND;VALUE=DATE:20180323
DTSTAMP:20260421T134536
CREATED:20180313T203316Z
LAST-MODIFIED:20180313T203316Z
UID:23318-1521676800-1521763199@www.unaoc.org
SUMMARY:PLURAL+ Screening in Barcelona\, Spain
DESCRIPTION:PLURAL+ 2018 partner Cinemes Girona is hosting a PLURAL+ screening in Barcelona\, Spain to energize local youth participation in this year’s PLURAL+ Youth Video Festival on Migration\, Diversity\, and Social Inclusion.
URL:https://www.unaoc.org/event/plural-screening-in-barcelona-spain/
LOCATION:Barcelona\, Spain\, Barcelona\, Spain
CATEGORIES:UNAOC Events
END:VEVENT
BEGIN:VEVENT
DTSTART;VALUE=DATE:20180322
DTEND;VALUE=DATE:20180323
DTSTAMP:20260421T134536
CREATED:20180314T175242Z
LAST-MODIFIED:20180314T175251Z
UID:23362-1521676800-1521763199@www.unaoc.org
SUMMARY:Deadline for Quotations: Capacity Building Training Services for UNAOC
DESCRIPTION:IMPORTANT NOTE: Interested vendors must respond to this tender using the UNOPS eSourcing system\, via the UNGM portal. In order to access the full UNOPS tender details\, request clarifications on the tender\, and submit a vendor response to a tender using the system\, vendors need to be registered as a UNOPS vendor at the UNGM portal and be logged into UNGM. For guidance on how to register on UNGM and submit responses to UNOPS tenders in the UNOPS eSourcing system\, please refer to the user guide and other resources available at: https://esourcing.unops.org/#/Help/Guides \n\nView the Full Request for Quotation (RFQ) Here
URL:https://www.unaoc.org/event/deadline-for-quotations-capacity-building-training-services-for-unaoc/
CATEGORIES:Calls For Applications
END:VEVENT
END:VCALENDAR