BEGIN:VCALENDAR
VERSION:2.0
PRODID:-//United Nations Alliance of Civilizations (UNAOC) - ECPv6.15.20//NONSGML v1.0//EN
CALSCALE:GREGORIAN
METHOD:PUBLISH
X-WR-CALNAME:United Nations Alliance of Civilizations (UNAOC)
X-ORIGINAL-URL:https://www.unaoc.org
X-WR-CALDESC:Events for United Nations Alliance of Civilizations (UNAOC)
REFRESH-INTERVAL;VALUE=DURATION:PT1H
X-Robots-Tag:noindex
X-PUBLISHED-TTL:PT1H
BEGIN:VTIMEZONE
TZID:America/Halifax
BEGIN:DAYLIGHT
TZOFFSETFROM:-0400
TZOFFSETTO:-0300
TZNAME:ADT
DTSTART:20170312T060000
END:DAYLIGHT
BEGIN:STANDARD
TZOFFSETFROM:-0300
TZOFFSETTO:-0400
TZNAME:AST
DTSTART:20171105T050000
END:STANDARD
BEGIN:DAYLIGHT
TZOFFSETFROM:-0400
TZOFFSETTO:-0300
TZNAME:ADT
DTSTART:20180311T060000
END:DAYLIGHT
BEGIN:STANDARD
TZOFFSETFROM:-0300
TZOFFSETTO:-0400
TZNAME:AST
DTSTART:20181104T050000
END:STANDARD
BEGIN:DAYLIGHT
TZOFFSETFROM:-0400
TZOFFSETTO:-0300
TZNAME:ADT
DTSTART:20190310T060000
END:DAYLIGHT
BEGIN:STANDARD
TZOFFSETFROM:-0300
TZOFFSETTO:-0400
TZNAME:AST
DTSTART:20191103T050000
END:STANDARD
END:VTIMEZONE
BEGIN:VEVENT
DTSTART;VALUE=DATE:20180123
DTEND;VALUE=DATE:20180303
DTSTAMP:20260421T150646
CREATED:20180123T193030Z
LAST-MODIFIED:20180214T191925Z
UID:22986-1516665600-1520035199@www.unaoc.org
SUMMARY:Youth Solidarity Fund: Call For Applications
DESCRIPTION:The Youth Solidarity Fund (YSF) supports youth-led organizations that foster peaceful and inclusive societies by providing seed funding to outstanding projects promoting intercultural and interfaith dialogue. It awards grants (up to USD 25\,000) for the implementation of selected projects that demonstrate innovative and effective approaches to intercultural or interfaith dialogue and advance the mission of UNAOC. YSF only supports projects that are entirely developed and managed by youth for the benefit of youth. The age definition used by UNAOC to characterize youth is a person who is between 18 and 35 years old. \n\nEligibility: Youth-led organizations (18-35 years old) from select countries\nGrant Details: Up to USD 25\,000 to implement intercultural and interfaith dialogue projects\nProject Duration: 6 months\nApplication deadline: 2 March 2018\, 5:00 p.m. Eastern Standard Time in New York (deadline extended)\n\nFor complete details on how to apply\, eligibility and selection criteria\, consult the Application Guidelines. \n  \nApply for the Youth Solidarity Fund Now \n 
URL:https://www.unaoc.org/event/ysf2018-call-for-applications/
CATEGORIES:Calls For Applications
END:VEVENT
BEGIN:VEVENT
DTSTART;VALUE=DATE:20180128
DTEND;VALUE=DATE:20180205
DTSTAMP:20260421T150646
CREATED:20180117T144644Z
LAST-MODIFIED:20180222T190225Z
UID:22886-1517097600-1517788799@www.unaoc.org
SUMMARY:PEACEapp Tunis
DESCRIPTION:UNAOC in partnership with Association ADO+ and the support of the Centre National de l’information pour l’Enfant (CNIFE)\, IOM\, UNHCR\, Red Crescent Tunisia\, among other organizations\, organized a three-day long PEACEapp workshop in Tunis\, Tunisia. \nThirty young people\, half from Tunisia and the other half young migrants and refugees from nine countries (Ivory Coast\, Madagascar\, Benin\, Chad\, Cameroun\, Syria\, Yemen\, Guinea\, and Rwanda) work together creating video games. \nPEACEapp is a UNAOC initiative aiming at facilitating better understanding and forming camaraderie between local youth and young migrants and refugees. During the workshop all young participants develop video games though the MIT Media Lab gaming platform SCRATCH\, while developing at the same time computational thinking\, digital literacy\, creativity and intercultural dialogue. \nThe local gaming company Galactech will continue working with some of the workshop participants and develop a gamified app on the topics of migration and refugees challenges. \nLearn more about PEACEapp here.
URL:https://www.unaoc.org/event/peaceapp-tunis/
LOCATION:Tunis\, Tunisia\, Tunis\, Tunisia
CATEGORIES:UNAOC Events
END:VEVENT
BEGIN:VEVENT
DTSTART;TZID=America/Halifax:20180207T130000
DTEND;TZID=America/Halifax:20180207T153000
DTSTAMP:20260421T150646
CREATED:20180130T233750Z
LAST-MODIFIED:20180201T071310Z
UID:23026-1518008400-1518017400@www.unaoc.org
SUMMARY:8th Celebration of the World Interfaith Harmony Week
DESCRIPTION:Inspiring Faith in Humanity \nOrganized by UNAOC in collaboration with CRNGO \nUNAOC in partnership with the Committee of Religious NGOs at the UN (CRNGO)\, will co-organize the 8th Celebration of the World Interfaith Harmony Week on 7 February 2018 which will focus on “Inspiring Faith in Humanity”. Religious leaders will join U.N. Representatives and Diplomats to share their stories and knowledge\, and emphasize the partnership between religious communities and the United Nations to bring the world closer toward a more compassionate and sustainable future.  \nRead more here.
URL:https://www.unaoc.org/event/8th-celebration-of-the-world-interfaith-harmony-week/
LOCATION:Tillman Chapel\, Church Center for the UN\, 777 United Nations Plaza\, NY\, United States
CATEGORIES:UNAOC Events
END:VEVENT
BEGIN:VEVENT
DTSTART;VALUE=DATE:20180211
DTEND;VALUE=DATE:20180214
DTSTAMP:20260421T150646
CREATED:20180209T214407Z
LAST-MODIFIED:20180210T000125Z
UID:23071-1518307200-1518566399@www.unaoc.org
SUMMARY:Implementation of the Plan of Action for Religious Leaders and Actors to Prevent Incitement to Violence that Could Lead to Atrocity Crimes
DESCRIPTION:UNAOC will be participating in the implementation meeting for the Plan of Action for Religious Leaders and Actors to Prevent Incitement to Violence that Could Lead to Atrocity Crimes in Vienna\, Austria. \nDownload (PDF\, 367KB)
URL:https://www.unaoc.org/event/implementation-of-the-plan-of-action-for-religious-leaders-and-actors-to-prevent-incitement-to-violence-that-could-lead-to-atrocity-crimes/
LOCATION:Vienna\, Austria
END:VEVENT
BEGIN:VEVENT
DTSTART;VALUE=DATE:20180218
DTEND;VALUE=DATE:20180224
DTSTAMP:20260421T150646
CREATED:20180116T202447Z
LAST-MODIFIED:20180117T203609Z
UID:22880-1518912000-1519430399@www.unaoc.org
SUMMARY:UNAOC Peace Workshop: Young Peacebuilders in MENA
DESCRIPTION:Twenty young peacebuilders between 18 and 25 years old from 12 MENA countries will travel to Amman\, Jordan\, to attend the United Nations Alliance of Civilizations (UNAOC) peace workshop\, organized in collaboration with GFP.  \nFrom the 18th until the 23rd of February 2018\, the participants will analyze conflicts\, practice peace tools to build bridges between cultures and religions\, as well as design a peace project which they will implement after the training. \n\nAbout the UNAOC Young Peacebuilders programme \nThe Young Peacebuilders consists of a series of regional workshops that UNAOC intends to implement in different regions of the world to offer competence development to young people and to grow and strengthen the global movement of young peacebuilders. Through this action\, UNAOC is committing to support young people’s participation in peacebuilding with a growing coalition of partners. \nRead more about Young Peacebuilders here.
URL:https://www.unaoc.org/event/young-peacebuilders-in-mena-workshop/
LOCATION:Amman\, Jordan\, Amman\, Jordan
CATEGORIES:UNAOC Events
END:VEVENT
BEGIN:VEVENT
DTSTART;VALUE=DATE:20180220
DTEND;VALUE=DATE:20180222
DTSTAMP:20260421T150646
CREATED:20180130T233920Z
LAST-MODIFIED:20180131T043036Z
UID:23028-1519084800-1519257599@www.unaoc.org
SUMMARY:Doha Conference on Interfaith Dialogue
DESCRIPTION:UNAOC\, participates in the Doha Conference on Interfaith Dialogue\, which convenes for its thirteenth session on the theme: “Religion and Human Rights”. The conference will be held February 20-21\, 2018\, in Doha\, Qatar. \nRead more here.
URL:https://www.unaoc.org/event/23028/
LOCATION:Doha\, Qatar
CATEGORIES:UNAOC Events
END:VEVENT
BEGIN:VEVENT
DTSTART;VALUE=DATE:20180221
DTEND;VALUE=DATE:20180604
DTSTAMP:20260421T150646
CREATED:20180222T162307Z
LAST-MODIFIED:20180222T162421Z
UID:23176-1519171200-1528070399@www.unaoc.org
SUMMARY:Call for Video Entries: PLURAL+ 2018 Youth Video Festival
DESCRIPTION:The United Nations Alliance of Civilizations (UNAOC) and the International Organization for Migration (IOM) invite youth from around the world to submit original and creative videos focusing on the PLURAL+ theme of migration\, diversity and social inclusion. Click here to learn more. \nSubmit your videos here
URL:https://www.unaoc.org/event/call-for-video-entries-plural-2018-youth-video-festival/
CATEGORIES:Calls For Applications
END:VEVENT
BEGIN:VEVENT
DTSTART;VALUE=DATE:20180226
DTEND;VALUE=DATE:20180228
DTSTAMP:20260421T150646
CREATED:20180220T224313Z
LAST-MODIFIED:20180220T224313Z
UID:23128-1519603200-1519775999@www.unaoc.org
SUMMARY:Interreligious Dialogue for Peace: Promoting Peaceful Coexistence and Common Citizenship
DESCRIPTION:UNAOC will be participating in the “Interreligious Dialogue for Peace: Promoting Peaceful Coexistence and Common Citizenship”\, from 26-27 February 2018\, in Hilton Stadtpark\, Vienna. \nAs part of the fifth anniversary of KAICIID’s launch as an intergovernmental and interreligious organization\, the Centre is organizing a second high-level meeting for the purpose of launching the much needed and often requested High-level Religious Leaders Joint Platform. \nClick here to learn more.
URL:https://www.unaoc.org/event/interreligious-dialogue-for-peace-promoting-peaceful-coexistence-and-common-citizenship/
LOCATION:Vienna\, Austria
CATEGORIES:International Conference
END:VEVENT
END:VCALENDAR