BEGIN:VCALENDAR
VERSION:2.0
PRODID:-//United Nations Alliance of Civilizations (UNAOC) - ECPv6.15.20//NONSGML v1.0//EN
CALSCALE:GREGORIAN
METHOD:PUBLISH
X-WR-CALNAME:United Nations Alliance of Civilizations (UNAOC)
X-ORIGINAL-URL:https://www.unaoc.org
X-WR-CALDESC:Events for United Nations Alliance of Civilizations (UNAOC)
REFRESH-INTERVAL;VALUE=DURATION:PT1H
X-Robots-Tag:noindex
X-PUBLISHED-TTL:PT1H
BEGIN:VTIMEZONE
TZID:America/Halifax
BEGIN:DAYLIGHT
TZOFFSETFROM:-0400
TZOFFSETTO:-0300
TZNAME:ADT
DTSTART:20160313T060000
END:DAYLIGHT
BEGIN:STANDARD
TZOFFSETFROM:-0300
TZOFFSETTO:-0400
TZNAME:AST
DTSTART:20161106T050000
END:STANDARD
BEGIN:DAYLIGHT
TZOFFSETFROM:-0400
TZOFFSETTO:-0300
TZNAME:ADT
DTSTART:20170312T060000
END:DAYLIGHT
BEGIN:STANDARD
TZOFFSETFROM:-0300
TZOFFSETTO:-0400
TZNAME:AST
DTSTART:20171105T050000
END:STANDARD
BEGIN:DAYLIGHT
TZOFFSETFROM:-0400
TZOFFSETTO:-0300
TZNAME:ADT
DTSTART:20180311T060000
END:DAYLIGHT
BEGIN:STANDARD
TZOFFSETFROM:-0300
TZOFFSETTO:-0400
TZNAME:AST
DTSTART:20181104T050000
END:STANDARD
END:VTIMEZONE
BEGIN:VEVENT
DTSTART;VALUE=DATE:20171001
DTEND;VALUE=DATE:20171102
DTSTAMP:20260423T221208
CREATED:20170911T194133Z
LAST-MODIFIED:20171002T203928Z
UID:22119-1506816000-1509580799@www.unaoc.org
SUMMARY:UNAOC Fellowship Programme 2017:  "The role of media and civil society in combatting hatred and fostering inclusion"
DESCRIPTION:Twelve emerging leaders from Egypt\, Iraq\, Jordan\, Lebanon\, Libya\, Morocco\, Saudi Arabia\, the State of Palestine\, and Tunisia will travel from October 1st to October 18th to the United States\, Germany\, France\, and Spain. Then\, twelve emerging leaders from Austria\, Bosnia-Herzegovina\, Germany\, Italy\, Lithuania\, Poland\, Romania\, Slovenia\, Slovak Republic\, the United Kingdom and the United States\, will travel from October 15th to November 1st to Spain\, Morocco\, Egypt and Qatar. Both groups will meet in Madrid\, Spain for two days.  \nDuring their respective trip\, besides addressing issues related to intercultural dialogue\, both cohorts will also take part in activities and discussions focusing on a secondary theme: “The role of media and civil society in combatting hatred and fostering inclusion”. This theme has been chosen to ensure that the programme has a concrete impact on the ground\, while serving UNAOC mission to foster intercultural collaborations. The choice of such theme has also framed the selection process and participants from both group are all involved professionally in the field of media and/or civil society. \n\n\n2017 Fellowship Itinerary \n\nMENA Cohort  \n Oct. 1-4: Washington D.C.\, U.S.\n Oct. 4-7: New York\, U.S.\n Oct. 8-11: Berlin\, Germany\n Oct. 11-15: Paris France \n\nMeeting between MENA and EUNA cohorts: \n Oct. 15-18: Madrid\, Spain \n\nEUNA Cohort \n Oct. 18-22: Rabat\, Morocco\n Oct. 22-27: Cairo\, Egypt\n Oct. 27-Nov. 1: Doha\, Qatar\n\n\nThe UNAOC Fellowship Program aims to build bridges between cultures and societies through dialogue and cooperation\, and to reinforce the global commitment to live together in mutual tolerance and respect. For more information about the UNAOC Fellowship Program\, please visit its website.
URL:https://www.unaoc.org/event/unaoc-fellowship-programme-2017/
CATEGORIES:UNAOC Events
END:VEVENT
BEGIN:VEVENT
DTSTART;VALUE=DATE:20171002
DTEND;VALUE=DATE:20171008
DTSTAMP:20260423T221208
CREATED:20170606T203308Z
LAST-MODIFIED:20171107T164300Z
UID:21315-1506902400-1507420799@www.unaoc.org
SUMMARY:PEACEapp Tangiers
DESCRIPTION:In the framework of contributing to the prevention of violent extremism and sensitization of public opinion to counter prejudices and stereotypes\, which seek to spread hatred and racism\, United Nations Alliance of Civilizations (UNAOC) organizes PEACEapp Tangiers\, from 02 to 07 October 2017\, in the Center for the Development and Empowerment of Youth Capacities of Ard Daoula; in partnership with the Mediterranean Democratic Institute for Development and Training (IMDDF)\,  Spanish collective Ideas Por la Paz\, OmniumLab Company; with the collaboration of Cooperazione per lo Sviluppo dei Paesi Emergenti  organization (COSPE)\, Association Mediterranean Meeting for Migration & Development (ARMID)\, Association Dreams of Childs & Youngsters (AREJ)\, Association TADAMON. \nPEACEAapp Tangiers is a UNAOC initiative providing an opportunity for Digital Literacy through video game design in benefit of more than 30 youth participants comprised of locals\, refugees and immigrants\, as a platform for intercultural development and youth empowerment. \nPEACEapp Tangiers will be inaugurated by a press conference with the presence of UNAOC Project Manager Mr. Jordi TORRENT\, PEACEapp local coordinator Mr. Said BAKKALI\, and OmniumLab president Mr. José Antonio Racero on Monday\, 02 October 2017 starting from 11.00 am at Center for the Development and Empowerment of Youth Capacities of Ard Daoula. \nFor more information\, please contact Mr. Jordi Torrent (jordit@unaoc.org) and visit unaoc.org/peaceapp.
URL:https://www.unaoc.org/event/peaceapp-tangiers/
LOCATION:Center for the Development and Empowerment of Youth Capacities of Ard Daoula\, Tangier\, Morocco
CATEGORIES:UNAOC Events
END:VEVENT
BEGIN:VEVENT
DTSTART;TZID=America/Halifax:20171005T180000
DTEND;TZID=America/Halifax:20171005T210000
DTSTAMP:20260423T221208
CREATED:20171003T191216Z
LAST-MODIFIED:20171003T192805Z
UID:22375-1507226400-1507237200@www.unaoc.org
SUMMARY:Women\, War and Peace: Film Screening and Discussion of "I Came Here to Testify"
DESCRIPTION:When: Thursday\, October 5\, 2017\, 6:00pm \n\nWhere: Harriman Institute Atrium\, 12th floor International Affairs Building\, 420 W 118th St \n\nWhat: Screening of the documentary film “I Came to Testify”\, followed by a discussion with filmmaker and media executive Pamela Hogan\, filmmaker Kirsten Johnson\, Chief of Cabinet and Spokesperson for the High-Representative for the United Nations Alliance of Civilizations (UNAOC) Nihal Saad\, and film producer and President of the Post-Conflict Research Center Velma Šarić. The discussion will be moderated by Tanya Domi (SIPA/Harriman Institute).  \nRead more here.
URL:https://www.unaoc.org/event/women-war-peace-i-came-here-to-testify/
LOCATION:Harriman Institute Atrium\, 420 W 118th St\, New York\, NY\, 10017\, United States
CATEGORIES:Panel Discussion
END:VEVENT
BEGIN:VEVENT
DTSTART;TZID=America/Halifax:20171014T173000
DTEND;TZID=America/Halifax:20171014T210000
DTSTAMP:20260423T221208
CREATED:20171009T202418Z
LAST-MODIFIED:20171010T132528Z
UID:22384-1508002200-1508014800@www.unaoc.org
SUMMARY:The Silk Road Concert
DESCRIPTION:Organized by the United Nations Alliance of Civilizations (UNAOC) and Fundación Onuart\nAn encounter between East and West\, promoting the dialogue and understanding among cultures through Art\, as the best instrument to promote harmony between nations. \n\nThe United Nations Alliance of Civilizations (UNAOC) and Fundación Onuart are inviting prestigious musicians from the Silk Road countries  to perform at “The Silk Road Concert.” While offering a musical journey through the Silk Road – possibly the most mythical route of antiquity – the concert sets out to use music as an instrument to foster intercultural dialogue\, understanding\, and rapprochement between nations and cultures. The setting of the Human Rights and Alliance of Civilizations Room in the Palais des Nations in Geneva will provide the ideal backdrop to promote dialogue and peace around the world through music.  \n\n \n\n\nMusical Performance by: \n\nSymphonic Orchestra of the Balearic Islands directed by Maestro Pablo Mielgo\nYasmine Azaiez (violin)\nBing Bing Wang (Soprano)\nBurak Bilgili (Bass)\nFatma Said (Soprano)\nHuiling Zhu (Mezzo)\nVladimir Galouzine (Tenor)\nWarren Mok (Tenor)\nYuan Gao (Soprano)\n\n\n\nRemarks by: \n\nMichael Moller\, Director-General of the UN Office in Geneva\nGuillaume Barazzone\, Mayor of Geneva (tbc)\n Joaquín Alexander Maza Martelli\, President of the UN Human Rights Council\nNassir Abdulaziz Al-Nasser\, UN High Representative for the Alliance of Civilizations (UNAOC)\nMiguel Ángel Moratinos\, President of Fundación Onuart.
URL:https://www.unaoc.org/event/the-silk-road-concert/
LOCATION:Human Rights and Alliance of Civilisations Room\, United Nations\, Geneva\, United Nations Office at Geneva \, Geneva\, 1211\, Switzerland
CATEGORIES:UNAOC Events
END:VEVENT
END:VCALENDAR