BEGIN:VCALENDAR
VERSION:2.0
PRODID:-//United Nations Alliance of Civilizations (UNAOC) - ECPv6.15.20//NONSGML v1.0//EN
CALSCALE:GREGORIAN
METHOD:PUBLISH
X-WR-CALNAME:United Nations Alliance of Civilizations (UNAOC)
X-ORIGINAL-URL:https://www.unaoc.org
X-WR-CALDESC:Events for United Nations Alliance of Civilizations (UNAOC)
REFRESH-INTERVAL;VALUE=DURATION:PT1H
X-Robots-Tag:noindex
X-PUBLISHED-TTL:PT1H
BEGIN:VTIMEZONE
TZID:America/Halifax
BEGIN:DAYLIGHT
TZOFFSETFROM:-0400
TZOFFSETTO:-0300
TZNAME:ADT
DTSTART:20220313T060000
END:DAYLIGHT
BEGIN:STANDARD
TZOFFSETFROM:-0300
TZOFFSETTO:-0400
TZNAME:AST
DTSTART:20221106T050000
END:STANDARD
BEGIN:DAYLIGHT
TZOFFSETFROM:-0400
TZOFFSETTO:-0300
TZNAME:ADT
DTSTART:20230312T060000
END:DAYLIGHT
BEGIN:STANDARD
TZOFFSETFROM:-0300
TZOFFSETTO:-0400
TZNAME:AST
DTSTART:20231105T050000
END:STANDARD
BEGIN:DAYLIGHT
TZOFFSETFROM:-0400
TZOFFSETTO:-0300
TZNAME:ADT
DTSTART:20240310T060000
END:DAYLIGHT
BEGIN:STANDARD
TZOFFSETFROM:-0300
TZOFFSETTO:-0400
TZNAME:AST
DTSTART:20241103T050000
END:STANDARD
END:VTIMEZONE
BEGIN:VEVENT
DTSTART;TZID=America/Halifax:20230213T080000
DTEND;TZID=America/Halifax:20230213T090000
DTSTAMP:20260421T213939
CREATED:20230126T201258Z
LAST-MODIFIED:20230126T201321Z
UID:32353-1676275200-1676278800@www.unaoc.org
SUMMARY:The Power of Sport to Prevent Violent Extremism: Virtual Roundtable Discussion to commemorate the International Day for the Prevention
DESCRIPTION:On 13 February 2023\, at 8:00am EST (New York time)\, the partners of the UN Global Programme on Security of Major Sporting Events\, and Promotion of Sport — the United Nations Office of Counter-Terrorism (UNOCT)\, the United Nations Alliance of Civilizations (UNAOC)\, the UN Interregional Crime and Justice Research Institute (UNICRI)\, and the International Centre for Sport Security (ICSS) — will host a virtual roundtable discussion that aims to further broaden conversations on how sport can positively influence lives\, crossing borders\, generations\, and diverse communities.  \nWithin the framework of the International Day for the Prevention of Violent Extremism as and when Conducive to Terrorism (February 12)\, representatives from international organizations\, federations\, civil society\, private partners\, media representatives\, National Focal Points (NFPs) designated to represent Member States within the Global Sports Programme\, as well as youth leaders will converse on sport-based PVE policymaking and activities\, grassroots S4D\, and the role of athletes and sporting events in creating healthy\, inclusive\, and prosperous societies\, which helps to build resilience to violent extremism and hate narratives.
URL:https://www.unaoc.org/event/the-power-of-sport-to-prevent-violent-extremism-roundtable-discussion/
LOCATION:Virtual
CATEGORIES:Virtual Conference,Webinar
END:VEVENT
END:VCALENDAR