BEGIN:VCALENDAR
VERSION:2.0
PRODID:-//United Nations Alliance of Civilizations (UNAOC) - ECPv6.15.20//NONSGML v1.0//EN
CALSCALE:GREGORIAN
METHOD:PUBLISH
X-WR-CALNAME:United Nations Alliance of Civilizations (UNAOC)
X-ORIGINAL-URL:https://www.unaoc.org
X-WR-CALDESC:Events for United Nations Alliance of Civilizations (UNAOC)
REFRESH-INTERVAL;VALUE=DURATION:PT1H
X-Robots-Tag:noindex
X-PUBLISHED-TTL:PT1H
BEGIN:VTIMEZONE
TZID:America/Halifax
BEGIN:DAYLIGHT
TZOFFSETFROM:-0400
TZOFFSETTO:-0300
TZNAME:ADT
DTSTART:20220313T060000
END:DAYLIGHT
BEGIN:STANDARD
TZOFFSETFROM:-0300
TZOFFSETTO:-0400
TZNAME:AST
DTSTART:20221106T050000
END:STANDARD
BEGIN:DAYLIGHT
TZOFFSETFROM:-0400
TZOFFSETTO:-0300
TZNAME:ADT
DTSTART:20230312T060000
END:DAYLIGHT
BEGIN:STANDARD
TZOFFSETFROM:-0300
TZOFFSETTO:-0400
TZNAME:AST
DTSTART:20231105T050000
END:STANDARD
BEGIN:DAYLIGHT
TZOFFSETFROM:-0400
TZOFFSETTO:-0300
TZNAME:ADT
DTSTART:20240310T060000
END:DAYLIGHT
BEGIN:STANDARD
TZOFFSETFROM:-0300
TZOFFSETTO:-0400
TZNAME:AST
DTSTART:20241103T050000
END:STANDARD
END:VTIMEZONE
BEGIN:VEVENT
DTSTART;TZID=America/Halifax:20230223T131500
DTEND;TZID=America/Halifax:20230223T143000
DTSTAMP:20260422T064216
CREATED:20230209T202607Z
LAST-MODIFIED:20230223T152727Z
UID:32407-1677158100-1677162600@www.unaoc.org
SUMMARY:Equal in Music: The West-Eastern Divan Ensemble
DESCRIPTION:The United Nations Alliance of Civilizations (UNAOC) and the United Nations Department of Global Communications (UNDGC) are honored to introduce to the UN community the West-Eastern Divan Ensemble.   Click here to register for this event.  \nThe eight-member ensemble led by the orchestra’s concertmaster Michael Barenboim draws upon players of the world-famous West-Eastern Divan Orchestra founded in 1999 by renowned Israeli pianist/conductor Daniel Barenboim and Palestinian scholar/author Edward Said. The United Nations Secretary-General designated the orchestra in 2016 as United Nations Global Advocate for Cultural Understanding. \nThe encounter at the UNHQ will provide an opportunity to introduce the idea behind the orchestra which is composed of young musicians from Israel\, Palestine and other Arab countries. For over twenty-four years\, the West-Eastern Divan Orchestra continues to demonstrate that when people listen to each other\, both musically and in all other ways\, great results can be achieved. \nClick here to register for this event  \nDownload (PDF\, 1.29MB)
URL:https://www.unaoc.org/event/equal-in-music-the-west-eastern-divan-ensemble/
LOCATION:Trusteeship Council Chamber\, UNHQ New York\, Conference Building\, UNHQ\, New York\, NY\, United States
CATEGORIES:UNAOC Events
ATTACH;FMTTYPE=image/png:https://www.unaoc.org/wp-content/uploads/EqualInMusic_FlyerProgramme_v2.png
END:VEVENT
END:VCALENDAR