BEGIN:VCALENDAR
VERSION:2.0
PRODID:-//United Nations Alliance of Civilizations (UNAOC) - ECPv6.15.20//NONSGML v1.0//EN
CALSCALE:GREGORIAN
METHOD:PUBLISH
X-ORIGINAL-URL:https://www.unaoc.org
X-WR-CALDESC:Events for United Nations Alliance of Civilizations (UNAOC)
REFRESH-INTERVAL;VALUE=DURATION:PT1H
X-Robots-Tag:noindex
X-PUBLISHED-TTL:PT1H
BEGIN:VTIMEZONE
TZID:America/Halifax
BEGIN:DAYLIGHT
TZOFFSETFROM:-0400
TZOFFSETTO:-0300
TZNAME:ADT
DTSTART:20210314T060000
END:DAYLIGHT
BEGIN:STANDARD
TZOFFSETFROM:-0300
TZOFFSETTO:-0400
TZNAME:AST
DTSTART:20211107T050000
END:STANDARD
BEGIN:DAYLIGHT
TZOFFSETFROM:-0400
TZOFFSETTO:-0300
TZNAME:ADT
DTSTART:20220313T060000
END:DAYLIGHT
BEGIN:STANDARD
TZOFFSETFROM:-0300
TZOFFSETTO:-0400
TZNAME:AST
DTSTART:20221106T050000
END:STANDARD
BEGIN:DAYLIGHT
TZOFFSETFROM:-0400
TZOFFSETTO:-0300
TZNAME:ADT
DTSTART:20230312T060000
END:DAYLIGHT
BEGIN:STANDARD
TZOFFSETFROM:-0300
TZOFFSETTO:-0400
TZNAME:AST
DTSTART:20231105T050000
END:STANDARD
END:VTIMEZONE
BEGIN:VEVENT
DTSTART;VALUE=DATE:20221010
DTEND;VALUE=DATE:20221012
DTSTAMP:20260421T152207
CREATED:20220915T185643Z
LAST-MODIFIED:20220926T174649Z
UID:31862-1665360000-1665532799@www.unaoc.org
SUMMARY:Global Dialogue: Towards the World of One Humanity
DESCRIPTION:Human Intelligence (HI) and Artificial intelligence (AI) hand-in-hand for a better world \nThe United Nations Alliance of Civilizations in collaboration with Fundación Onuart will organize this first global dialogue on the relationship between Human Intelligence and Artificial Intelligence for a better management of public affairs and for paving the way for new initiatives of the private sector in favor of a positive global development driven by innovation and inclusiveness. Artificial Intelligence\, in the service of humanity\, can drive diversity\, respect and progress for all through innovation. Moving forward under a strong public-private partnership is essential to this end. The meeting will serve to deepen\, manifest\, and visualize this partnership. \nRegister Here
URL:https://www.unaoc.org/event/global-dialogue-towards-the-world-of-one-humanity/
LOCATION:Palais des Nations\, Geneva\, Switzerland
CATEGORIES:UNAOC Events
END:VEVENT
END:VCALENDAR