BEGIN:VCALENDAR
VERSION:2.0
PRODID:-//United Nations Alliance of Civilizations (UNAOC) - ECPv6.15.20//NONSGML v1.0//EN
CALSCALE:GREGORIAN
METHOD:PUBLISH
X-ORIGINAL-URL:https://www.unaoc.org
X-WR-CALDESC:Events for United Nations Alliance of Civilizations (UNAOC)
REFRESH-INTERVAL;VALUE=DURATION:PT1H
X-Robots-Tag:noindex
X-PUBLISHED-TTL:PT1H
BEGIN:VTIMEZONE
TZID:America/Halifax
BEGIN:DAYLIGHT
TZOFFSETFROM:-0400
TZOFFSETTO:-0300
TZNAME:ADT
DTSTART:20200308T060000
END:DAYLIGHT
BEGIN:STANDARD
TZOFFSETFROM:-0300
TZOFFSETTO:-0400
TZNAME:AST
DTSTART:20201101T050000
END:STANDARD
BEGIN:DAYLIGHT
TZOFFSETFROM:-0400
TZOFFSETTO:-0300
TZNAME:ADT
DTSTART:20210314T060000
END:DAYLIGHT
BEGIN:STANDARD
TZOFFSETFROM:-0300
TZOFFSETTO:-0400
TZNAME:AST
DTSTART:20211107T050000
END:STANDARD
BEGIN:DAYLIGHT
TZOFFSETFROM:-0400
TZOFFSETTO:-0300
TZNAME:ADT
DTSTART:20220313T060000
END:DAYLIGHT
BEGIN:STANDARD
TZOFFSETFROM:-0300
TZOFFSETTO:-0400
TZNAME:AST
DTSTART:20221106T050000
END:STANDARD
END:VTIMEZONE
BEGIN:VEVENT
DTSTART;TZID=America/Halifax:20210720T080000
DTEND;TZID=America/Halifax:20210720T103000
DTSTAMP:20260421T185227
CREATED:20210706T204215Z
LAST-MODIFIED:20210715T150135Z
UID:30218-1626768000-1626777000@www.unaoc.org
SUMMARY:iTAGe: Talking Across Generations on the State of PVE in South Asia
DESCRIPTION:Register Now to Join Us Live  Read More: Media Advisory   \n\nOrganized in collaboration with UNESCO New Delhi within the framework of UNESCO MGIEP and UNAOC’s #YouthWagingPeace programme\, iTAGe: Talking Across Generations on the State of PVE in South Asia is an intergenerational event that will provide youth with a platform to discuss peace and social cohesion with Senior Officials and policymakers from South Asia.  \nThe input collected will be incorporated into a Youth-led Report on the State of PVE in South Asia as youth-centered actionable recommendations for policymakers. The report will combine the latest research on preventative efforts with uncensored youth case studies to produce fresh and robust perspectives for policymakers and a youth-centred overview of violent extremism in South Asia.
URL:https://www.unaoc.org/event/itage-talking-across-generations-on-the-state-of-pve-in-south-asia/
LOCATION:Virtual
CATEGORIES:UNAOC Events
END:VEVENT
END:VCALENDAR