BEGIN:VCALENDAR
VERSION:2.0
PRODID:-//United Nations Alliance of Civilizations (UNAOC) - ECPv6.15.20//NONSGML v1.0//EN
CALSCALE:GREGORIAN
METHOD:PUBLISH
X-ORIGINAL-URL:https://www.unaoc.org
X-WR-CALDESC:Events for United Nations Alliance of Civilizations (UNAOC)
REFRESH-INTERVAL;VALUE=DURATION:PT1H
X-Robots-Tag:noindex
X-PUBLISHED-TTL:PT1H
BEGIN:VTIMEZONE
TZID:America/Halifax
BEGIN:DAYLIGHT
TZOFFSETFROM:-0400
TZOFFSETTO:-0300
TZNAME:ADT
DTSTART:20200308T060000
END:DAYLIGHT
BEGIN:STANDARD
TZOFFSETFROM:-0300
TZOFFSETTO:-0400
TZNAME:AST
DTSTART:20201101T050000
END:STANDARD
BEGIN:DAYLIGHT
TZOFFSETFROM:-0400
TZOFFSETTO:-0300
TZNAME:ADT
DTSTART:20210314T060000
END:DAYLIGHT
BEGIN:STANDARD
TZOFFSETFROM:-0300
TZOFFSETTO:-0400
TZNAME:AST
DTSTART:20211107T050000
END:STANDARD
BEGIN:DAYLIGHT
TZOFFSETFROM:-0400
TZOFFSETTO:-0300
TZNAME:ADT
DTSTART:20220313T060000
END:DAYLIGHT
BEGIN:STANDARD
TZOFFSETFROM:-0300
TZOFFSETTO:-0400
TZNAME:AST
DTSTART:20221106T050000
END:STANDARD
END:VTIMEZONE
BEGIN:VEVENT
DTSTART;TZID=America/Halifax:20210225T100000
DTEND;TZID=America/Halifax:20210225T113000
DTSTAMP:20260422T083019
CREATED:20210208T145359Z
LAST-MODIFIED:20210211T164023Z
UID:29302-1614247200-1614252600@www.unaoc.org
SUMMARY:Global Pledge for Action Webinar on the of Safeguard Religious Sites
DESCRIPTION:The Webinar on the Safeguard of Religious Sites is part of the series of six sessions on implementing the Global Pledge for Action by Religious Actors and Faith-Based Organizations to Address the COVID-19 Pandemic in Collaboration with the United Nations. \n\nBackground: The UN Alliance of Civilization (UNAOC)\, the Office on Genocide Prevention and Responsibility to Protect (OSAPG)\, and the Office of the High Commissioner for Human Rights (OHCHR) held a virtual consultation with religious leaders and actors on 28 May 2020. The consultation was organized in response to the 22 April call by the UN Secretary-General to religious actors to contribute to wider efforts against the pandemic and its consequences. The meeting brought together religious leaders and actors as well as faith-based organizations to discuss possible areas of action and collaboration with the United Nations in the common fight against COVID-19 and its socio-economic impacts. This consultation resulted in the Global Pledge for Action\, which includes a declaration by religious leaders and actors with assurances and commitments in response to COVID-19\, and a mapping of ongoing activities and possible areas of collaboration with the United Nations.
URL:https://www.unaoc.org/event/global-pledge-for-action-webinar-safeguard-religious-sites/
LOCATION:Virtual
CATEGORIES:UNAOC Events
END:VEVENT
END:VCALENDAR