BEGIN:VCALENDAR
VERSION:2.0
PRODID:-//United Nations Alliance of Civilizations (UNAOC) - ECPv5.14.2.1//NONSGML v1.0//EN
CALSCALE:GREGORIAN
METHOD:PUBLISH
X-WR-CALNAME:United Nations Alliance of Civilizations (UNAOC)
X-ORIGINAL-URL:https://www.unaoc.org
X-WR-CALDESC:Events for United Nations Alliance of Civilizations (UNAOC)
BEGIN:VTIMEZONE
TZID:America/Halifax
BEGIN:DAYLIGHT
TZOFFSETFROM:-0400
TZOFFSETTO:-0300
TZNAME:ADT
DTSTART:20210314T060000
END:DAYLIGHT
BEGIN:STANDARD
TZOFFSETFROM:-0300
TZOFFSETTO:-0400
TZNAME:AST
DTSTART:20211107T050000
END:STANDARD
END:VTIMEZONE
BEGIN:VEVENT
DTSTART;TZID=America/Halifax:20210630T133000
DTEND;TZID=America/Halifax:20210630T150000
DTSTAMP:20221113T162108
CREATED:20210609T181151Z
LAST-MODIFIED:20210629T160240Z
UID:30062-1625059800-1625065200@www.unaoc.org
SUMMARY:Prevention and the Misuse of New Communication Platforms: A Side Event in the Margins of the 2021 Counter-Terrorism Week
DESCRIPTION:Prevention and the Misuse of New Communication Platforms\nCo-organized by UNAOC\, UNCCT\, and the Kingdom of Saudi Arabia  \nRegister for the Side Event Here \n \n\n\n\n\nDownload (PDF\, 448KB)
URL:https://www.unaoc.org/event/prevention-and-the-misuse-of-new-communication-platforms-counter-terrorism-week-side-event/
CATEGORIES:UNAOC Events
END:VEVENT
END:VCALENDAR