BEGIN:VCALENDAR
VERSION:2.0
PRODID:-//United Nations Alliance of Civilizations (UNAOC) - ECPv6.15.20//NONSGML v1.0//EN
CALSCALE:GREGORIAN
METHOD:PUBLISH
X-ORIGINAL-URL:https://www.unaoc.org
X-WR-CALDESC:Events for United Nations Alliance of Civilizations (UNAOC)
REFRESH-INTERVAL;VALUE=DURATION:PT1H
X-Robots-Tag:noindex
X-PUBLISHED-TTL:PT1H
BEGIN:VTIMEZONE
TZID:America/Halifax
BEGIN:DAYLIGHT
TZOFFSETFROM:-0400
TZOFFSETTO:-0300
TZNAME:ADT
DTSTART:20200308T060000
END:DAYLIGHT
BEGIN:STANDARD
TZOFFSETFROM:-0300
TZOFFSETTO:-0400
TZNAME:AST
DTSTART:20201101T050000
END:STANDARD
BEGIN:DAYLIGHT
TZOFFSETFROM:-0400
TZOFFSETTO:-0300
TZNAME:ADT
DTSTART:20210314T060000
END:DAYLIGHT
BEGIN:STANDARD
TZOFFSETFROM:-0300
TZOFFSETTO:-0400
TZNAME:AST
DTSTART:20211107T050000
END:STANDARD
BEGIN:DAYLIGHT
TZOFFSETFROM:-0400
TZOFFSETTO:-0300
TZNAME:ADT
DTSTART:20220313T060000
END:DAYLIGHT
BEGIN:STANDARD
TZOFFSETFROM:-0300
TZOFFSETTO:-0400
TZNAME:AST
DTSTART:20221106T050000
END:STANDARD
END:VTIMEZONE
BEGIN:VEVENT
DTSTART;TZID=America/Halifax:20210120T090000
DTEND;TZID=America/Halifax:20210121T120000
DTSTAMP:20260423T032020
CREATED:20201215T171117Z
LAST-MODIFIED:20210112T184744Z
UID:29056-1611133200-1611230400@www.unaoc.org
SUMMARY:First Online Youth Consultation on Preventing Violent Extremism Through Sport
DESCRIPTION:Preventing violent extremism through sport – An interactive youth consultation\nWednesday\, January 20\, 2021 (09.00 AM – 12.00 PM EST) and Thursday\, January 21\, 2021 (10.00 AM – 12.00 PM EST)\n\n \nThe 2030 Agenda for Sustainable Development and the United Nations Security Council Resolution (UNSCR) 2419 (2018) on Youth\, Peace and Security recognizes the “growing contribution of sport and culture to the realization of development and peace in the promotion of tolerance and respect as well as the empowerment of youth and women\, individuals and communities. More recently\, UNSCR 2535 (2020) called upon the United Nations (UN) entities to improve capacity-building by integrating the Youth\, Peace and Security agenda into their technical assistance plans. Sports have historically played a significant role in the dissemination of positive values throughout the world and across civilization and cultures\, thus making sports a powerful vector for the development of efforts aimed at preventing and countering violent extremism and radicalization. \nIn this context and within the framework of the “Global Programme on Security of Major Sporting Events\, and Promotion of Sport and its Values as a Tool to Prevent Violent Extremism”\, the UN Office of Counter-Terrorism (UNOCT)\, and its partners\, the UN Interregional Crime and Justice Research Institute (UNICRI)\, the UN Alliance of Civilizations (UNAOC) and the International Centre for Sport Security (ICSS)\, through its Save the Dream initiative\, are working to launch a series of initiatives within the prevention of violent extremism component of the UN Global Sports Programme: \n\nGlobal Awareness Campaign to Say No to Terrorism while promoting the use of Sport and its Values as a Tool to Prevent Violent Extremism. The Campaign will have a global dimension and aim to have its highest moment of visibility on the occasion of the 2020 Tokyo Olympic games (taking place in 2021) and the 2022 FIFA World Cup in Qatar.\nGuide for Policymakers to promote the role of sports and its values in preventing violent extremism and to ensure the inclusion of sports values-based initiatives in the PVE National Action Plans.\nTraining Handbook and App to assist the organizers of sport events to conduct initiatives aiming at preventing violent extremism by leveraging on sport values such as tolerance\, respect\, integrity\, solidarity\, and equality and advocate for youth and children’s participation in sports as a recreational activity helping current and new generations build transferable skills such as confidence\, self-control and teamwork.\n\nThe current youth generation is acknowledged as the largest in history\, with the global agenda increasingly focused on young people as key drivers for meaningly and impactful social movements. Their diversity in course of actions and rationale has greatly contributed to identifying and addressing the triggers of violent extremism. Moreover\, young people are the most able to mobilize their peers and to become principal stakeholders of societies that are increasingly free from stereotypes\, discrimination and extremism. Their engagement in the prevention of violent extremism spans from sports\, art and street theatre initiatives\, to online campaigns and capacity development support within global reach. Hence the several elements of the Global Programme will be designed in collaboration with young people as key\nstakeholders. \nIn this online consultation we would like to consult with and collect young leaders’ inputs on the above-mentioned deliverables (campaign\, guide\, training handbook and app). At the same time\, we would like to create a connection between the youth and decision makers\, both within as beyond the global programme\, by creating a safe space for youth to dialogue with Member States on how to improve the integration of youth in decision making processes. \nFollowing the event\, a summary document will be circulated to stimulate continued conversation and sharing information on what is needed to include in compendium and meaningfully include young people in preventing violent extremism at the local\, national\, regional and global levels. \n\n\n\nTentative Agenda\n\n Wednesday\, January 20\n(09.00 AM – 12.00 PM EST)\n Part I: Warm-up – Welcome and Introduction  (20 min)\n– Pep talk + Q&A with an inspiring athlete \n Part II – First half – Youth Inputs on the project’s deliverables (1hr and 15min)\n– Policy Guide\n– Training Handbook\n– App\n– Communication Campaign \n Part III – Networking Break  (10 min) \n Part IV – Second half – Youth Inputs on the project’s deliverables  (1hr and 15min)\n– Policy Guide\n– Training Handbook\n– App\n– Communication Campaign \n\n Thursday\, January 21\n(10.00 AM – 12.00 PM EST)\n Part V: Game Strategy I – Role of Governments   (45 min) \n– Introductory remarks about the role of NFP within the project (by UNOCT and/or\nNFP’s) – 10 min\n– Ice-breaker case studies regarding policy experiences on Sport and PVE – 35 min \n Part VI – Game Strategy II – Dialogue with Member States – NFPs  (1hr and 15 min) \n– Discuss how to establish cooperation mechanisms within the scope of the project and beyond
URL:https://www.unaoc.org/event/first-online-youth-consultation-on-preventing-violent-extremism-through-sport/
LOCATION:Online
CATEGORIES:UNAOC Events
END:VEVENT
BEGIN:VEVENT
DTSTART;TZID=America/Halifax:20210125T100000
DTEND;TZID=America/Halifax:20210125T110000
DTSTAMP:20260423T032020
CREATED:20210119T201257Z
LAST-MODIFIED:20210121T180302Z
UID:29133-1611568800-1611572400@www.unaoc.org
SUMMARY:Live Q&A: Youth Solidarity Fund Call for Applications
DESCRIPTION:In December 2020\, UNAOC launched the Call for Applications for the ninth edition of the Youth Solidarity Fund\, inviting youth-led organizations to submit project proposals that seek to promote peace and social inclusion through improved understanding\, respect\, and collaboration across borders\, cultures\, faiths\, and beliefs.  \nThe application process may seem daunting\, but we are here to help! UNAOC is organizing a Facebook live to address some of the most common questions and help you through the process. You may submit your questions in advance on social media by using the hashtags #YouthSolidarityFund and/or #UNAOCyouth. \nJoin the YSF Live Q&A Here
URL:https://www.unaoc.org/event/ysf-live/
LOCATION:Online
CATEGORIES:Calls For Applications,UNAOC Events
END:VEVENT
END:VCALENDAR