BEGIN:VCALENDAR
VERSION:2.0
PRODID:-//United Nations Alliance of Civilizations (UNAOC) - ECPv6.15.20//NONSGML v1.0//EN
CALSCALE:GREGORIAN
METHOD:PUBLISH
X-WR-CALNAME:United Nations Alliance of Civilizations (UNAOC)
X-ORIGINAL-URL:https://www.unaoc.org
X-WR-CALDESC:Events for United Nations Alliance of Civilizations (UNAOC)
REFRESH-INTERVAL;VALUE=DURATION:PT1H
X-Robots-Tag:noindex
X-PUBLISHED-TTL:PT1H
BEGIN:VTIMEZONE
TZID:America/Halifax
BEGIN:DAYLIGHT
TZOFFSETFROM:-0400
TZOFFSETTO:-0300
TZNAME:ADT
DTSTART:20190310T060000
END:DAYLIGHT
BEGIN:STANDARD
TZOFFSETFROM:-0300
TZOFFSETTO:-0400
TZNAME:AST
DTSTART:20191103T050000
END:STANDARD
BEGIN:DAYLIGHT
TZOFFSETFROM:-0400
TZOFFSETTO:-0300
TZNAME:ADT
DTSTART:20200308T060000
END:DAYLIGHT
BEGIN:STANDARD
TZOFFSETFROM:-0300
TZOFFSETTO:-0400
TZNAME:AST
DTSTART:20201101T050000
END:STANDARD
BEGIN:DAYLIGHT
TZOFFSETFROM:-0400
TZOFFSETTO:-0300
TZNAME:ADT
DTSTART:20210314T060000
END:DAYLIGHT
BEGIN:STANDARD
TZOFFSETFROM:-0300
TZOFFSETTO:-0400
TZNAME:AST
DTSTART:20211107T050000
END:STANDARD
BEGIN:DAYLIGHT
TZOFFSETFROM:-0400
TZOFFSETTO:-0300
TZNAME:ADT
DTSTART:20220313T060000
END:DAYLIGHT
BEGIN:STANDARD
TZOFFSETFROM:-0300
TZOFFSETTO:-0400
TZNAME:AST
DTSTART:20221106T050000
END:STANDARD
BEGIN:DAYLIGHT
TZOFFSETFROM:-0400
TZOFFSETTO:-0300
TZNAME:ADT
DTSTART:20230312T060000
END:DAYLIGHT
BEGIN:STANDARD
TZOFFSETFROM:-0300
TZOFFSETTO:-0400
TZNAME:AST
DTSTART:20231105T050000
END:STANDARD
BEGIN:DAYLIGHT
TZOFFSETFROM:-0400
TZOFFSETTO:-0300
TZNAME:ADT
DTSTART:20240310T060000
END:DAYLIGHT
BEGIN:STANDARD
TZOFFSETFROM:-0300
TZOFFSETTO:-0400
TZNAME:AST
DTSTART:20241103T050000
END:STANDARD
BEGIN:DAYLIGHT
TZOFFSETFROM:-0400
TZOFFSETTO:-0300
TZNAME:ADT
DTSTART:20250309T060000
END:DAYLIGHT
BEGIN:STANDARD
TZOFFSETFROM:-0300
TZOFFSETTO:-0400
TZNAME:AST
DTSTART:20251102T050000
END:STANDARD
BEGIN:DAYLIGHT
TZOFFSETFROM:-0400
TZOFFSETTO:-0300
TZNAME:ADT
DTSTART:20260308T060000
END:DAYLIGHT
BEGIN:STANDARD
TZOFFSETFROM:-0300
TZOFFSETTO:-0400
TZNAME:AST
DTSTART:20261101T050000
END:STANDARD
BEGIN:DAYLIGHT
TZOFFSETFROM:-0400
TZOFFSETTO:-0300
TZNAME:ADT
DTSTART:20270314T060000
END:DAYLIGHT
BEGIN:STANDARD
TZOFFSETFROM:-0300
TZOFFSETTO:-0400
TZNAME:AST
DTSTART:20271107T050000
END:STANDARD
END:VTIMEZONE
BEGIN:VEVENT
DTSTART;TZID=America/Halifax:20260415T170000
DTEND;TZID=America/Halifax:20260415T170000
DTSTAMP:20260419T171608
CREATED:20260305T171719Z
LAST-MODIFIED:20260305T171719Z
UID:36648-1776272400-1776272400@www.unaoc.org
SUMMARY:Deadline: 2026 Intercultural Innovation Hub
DESCRIPTION:
URL:https://www.unaoc.org/2026/03/intercultural-innovation-hub-2026/
CATEGORIES:Opportunities
END:VEVENT
BEGIN:VEVENT
DTSTART;VALUE=DATE:20200212
DTEND;VALUE=DATE:20200213
DTSTAMP:20260419T171608
CREATED:20200120T185719Z
LAST-MODIFIED:20200205T204206Z
UID:27153-1581465600-1581551999@www.unaoc.org
SUMMARY:Deadline Extended: Project Management - Multimedia Intern
DESCRIPTION:UNAOC is looking for a multimedia intern for its New York office. Apply by 31 January 2020.
URL:/2020/01/project-management-multimedia-intern/
CATEGORIES:Opportunities
END:VEVENT
BEGIN:VEVENT
DTSTART;TZID=America/Halifax:20200128T110000
DTEND;TZID=America/Halifax:20200128T170000
DTSTAMP:20260419T171608
CREATED:20200114T223708Z
LAST-MODIFIED:20200114T225024Z
UID:27109-1580209200-1580230800@www.unaoc.org
SUMMARY:Deadline: Request for Quotations for Printing Services
DESCRIPTION:UNAOC is pleased to invite prospective vendors to submit their quotations for printing services. Interested vendors must respond to the tender using the UNOPS eSourcing system via the UNGM portal. \nClick here to submit a quotation now. \n\nBackground: \nAs part of its overall communications strategy\, the United Nations Alliance of Civilizations (UNAOC) regularly produces a wide variety of promotional materials for its projects\, initiatives and entire spectrum of activities. These materials are intended to disseminate information\, increase visibility\, boost outreach\, and strengthen UNAOC’s branding efforts. \nEstablished in 2005\, the United Nations Alliance of Civilizations (UNAOC) is a political initiative of Mr. Kofi Annan\, former UN Secretary General\, and co-sponsored by the Governments of Spain and Turkey. A High-Level Group of experts was formed by Mr. Annan to explore the roots of polarization between societies and cultures today\, and to recommend a practical programme of action to address this issue. The Report of the High-Level Group provided analysis and put forward practical recommendations that form the basis for the implementation plan of the United Nations Alliance of Civilizations. \nGuided by the principles of the UN Charter\, the report of its High-Level Group\, and the priorities of the Secretary-General\, the UN Alliance of Civilizations works toward a more peaceful\, more socially inclusive world\, by building mutual respect among peoples of different cultural and religious identities\, and highlighting the will of the world’s majority to reject extremism and embrace diversity. UNAOC will seek to operate in situations where it can contribute to broader efforts to ameliorate identity-based crises and promote culturally sensitive development policies. \nClick here to submit a quotation now.
URL:https://www.unaoc.org/event/deadline-request-for-quotations-for-printing-services/
CATEGORIES:Opportunities
END:VEVENT
BEGIN:VEVENT
DTSTART;VALUE=DATE:20200128
DTEND;VALUE=DATE:20200129
DTSTAMP:20260419T171608
CREATED:20200121T215455Z
LAST-MODIFIED:20200121T215455Z
UID:27189-1580169600-1580255999@www.unaoc.org
SUMMARY:Deadline for Applications: Gender Equality Specialist
DESCRIPTION:
URL:/2020/01/vacancy-announcement-gender-equality-specialist/
CATEGORIES:Opportunities
END:VEVENT
END:VCALENDAR