BEGIN:VCALENDAR
VERSION:2.0
PRODID:-//United Nations Alliance of Civilizations (UNAOC) - ECPv6.15.20//NONSGML v1.0//EN
CALSCALE:GREGORIAN
METHOD:PUBLISH
X-WR-CALNAME:United Nations Alliance of Civilizations (UNAOC)
X-ORIGINAL-URL:https://www.unaoc.org
X-WR-CALDESC:Events for United Nations Alliance of Civilizations (UNAOC)
REFRESH-INTERVAL;VALUE=DURATION:PT1H
X-Robots-Tag:noindex
X-PUBLISHED-TTL:PT1H
BEGIN:VTIMEZONE
TZID:America/Halifax
BEGIN:DAYLIGHT
TZOFFSETFROM:-0400
TZOFFSETTO:-0300
TZNAME:ADT
DTSTART:20220313T060000
END:DAYLIGHT
BEGIN:STANDARD
TZOFFSETFROM:-0300
TZOFFSETTO:-0400
TZNAME:AST
DTSTART:20221106T050000
END:STANDARD
BEGIN:DAYLIGHT
TZOFFSETFROM:-0400
TZOFFSETTO:-0300
TZNAME:ADT
DTSTART:20230312T060000
END:DAYLIGHT
BEGIN:STANDARD
TZOFFSETFROM:-0300
TZOFFSETTO:-0400
TZNAME:AST
DTSTART:20231105T050000
END:STANDARD
BEGIN:DAYLIGHT
TZOFFSETFROM:-0400
TZOFFSETTO:-0300
TZNAME:ADT
DTSTART:20240310T060000
END:DAYLIGHT
BEGIN:STANDARD
TZOFFSETFROM:-0300
TZOFFSETTO:-0400
TZNAME:AST
DTSTART:20241103T050000
END:STANDARD
END:VTIMEZONE
BEGIN:VEVENT
DTSTART;VALUE=DATE:20231011
DTEND;VALUE=DATE:20231012
DTSTAMP:20260424T201253
CREATED:20231006T160538Z
LAST-MODIFIED:20231006T160538Z
UID:33836-1696982400-1697068799@www.unaoc.org
SUMMARY:21st Session of the Secretariat of the Congress of Leaders of World and Traditional Religions
DESCRIPTION:UNAOC will participate in the 21st session of the Secretariat of the Congress of Leaders of World and Traditional Religions. The event will be hosted by the Republic of Kazakhstan\, which holds regular sessions of the Secretariat in Astana\, convening religious leaders\, representatives of the national authorities\, faith-based organizations and international organizations. During the event\, participants will review and adopt the Development Concept of the Congress of Leaders of World and Traditional Religions for 2023-2033 and mark the 20th anniversary since the Congress was launched.
URL:https://www.unaoc.org/event/21st-session-of-the-secretariat-of-the-congress-of-leaders-of-world-and-traditional-religions/
LOCATION:Astana\, Kazakhstan\, Astana\, Kazakhstan
CATEGORIES:International Conference
END:VEVENT
END:VCALENDAR