BEGIN:VCALENDAR
VERSION:2.0
PRODID:-//United Nations Alliance of Civilizations (UNAOC) - ECPv6.15.20//NONSGML v1.0//EN
CALSCALE:GREGORIAN
METHOD:PUBLISH
X-WR-CALNAME:United Nations Alliance of Civilizations (UNAOC)
X-ORIGINAL-URL:https://www.unaoc.org
X-WR-CALDESC:Events for United Nations Alliance of Civilizations (UNAOC)
REFRESH-INTERVAL;VALUE=DURATION:PT1H
X-Robots-Tag:noindex
X-PUBLISHED-TTL:PT1H
BEGIN:VTIMEZONE
TZID:America/Halifax
BEGIN:DAYLIGHT
TZOFFSETFROM:-0400
TZOFFSETTO:-0300
TZNAME:ADT
DTSTART:20220313T060000
END:DAYLIGHT
BEGIN:STANDARD
TZOFFSETFROM:-0300
TZOFFSETTO:-0400
TZNAME:AST
DTSTART:20221106T050000
END:STANDARD
BEGIN:DAYLIGHT
TZOFFSETFROM:-0400
TZOFFSETTO:-0300
TZNAME:ADT
DTSTART:20230312T060000
END:DAYLIGHT
BEGIN:STANDARD
TZOFFSETFROM:-0300
TZOFFSETTO:-0400
TZNAME:AST
DTSTART:20231105T050000
END:STANDARD
BEGIN:DAYLIGHT
TZOFFSETFROM:-0400
TZOFFSETTO:-0300
TZNAME:ADT
DTSTART:20240310T060000
END:DAYLIGHT
BEGIN:STANDARD
TZOFFSETFROM:-0300
TZOFFSETTO:-0400
TZNAME:AST
DTSTART:20241103T050000
END:STANDARD
END:VTIMEZONE
BEGIN:VEVENT
DTSTART;VALUE=DATE:20230309
DTEND;VALUE=DATE:20230313
DTSTAMP:20260421T204259
CREATED:20230308T182405Z
LAST-MODIFIED:20230308T182405Z
UID:32470-1678320000-1678665599@www.unaoc.org
SUMMARY:X Global Baku Forum: "The World of Today: Challenges and Hopes"
DESCRIPTION:UNAOC is participating in the flagship event of the Nizami Ganjavi International Center\, the 10th edition of the Global Baku Forum\, on 9-12 March 2023 in Baku\, Azerbaijan\, under the theme “The World of Today: Challenges and Hopes”. \nThe Forum will bring together over 400 participants\, including current and former heads of state and government\, Nobel Laureates\, international organizations\, and civil society. In the 10 years of its existence\, over 100 current and former heads of state and government\, Nobel Laureates\, and more than 4\,000 other high-level representatives of governments\, international organizations\, and civil society have participated in the Forum in order to discuss how to overcome of the world’s most pressing challenges. \nLearn more about the X Global Baku Forum here.
URL:https://www.unaoc.org/event/x-global-baku-forum-the-world-of-today-challenges-and-hopes/
LOCATION:Baku\, Azerbaijan
CATEGORIES:International Conference
ATTACH;FMTTYPE=image/jpeg:https://www.unaoc.org/wp-content/uploads/19747146be466c561069b82ca34010ed.jpeg
END:VEVENT
END:VCALENDAR