BEGIN:VCALENDAR
VERSION:2.0
PRODID:-//United Nations Alliance of Civilizations (UNAOC) - ECPv6.15.20//NONSGML v1.0//EN
CALSCALE:GREGORIAN
METHOD:PUBLISH
X-WR-CALNAME:United Nations Alliance of Civilizations (UNAOC)
X-ORIGINAL-URL:https://www.unaoc.org
X-WR-CALDESC:Events for United Nations Alliance of Civilizations (UNAOC)
REFRESH-INTERVAL;VALUE=DURATION:PT1H
X-Robots-Tag:noindex
X-PUBLISHED-TTL:PT1H
BEGIN:VTIMEZONE
TZID:America/Halifax
BEGIN:DAYLIGHT
TZOFFSETFROM:-0400
TZOFFSETTO:-0300
TZNAME:ADT
DTSTART:20180311T060000
END:DAYLIGHT
BEGIN:STANDARD
TZOFFSETFROM:-0300
TZOFFSETTO:-0400
TZNAME:AST
DTSTART:20181104T050000
END:STANDARD
BEGIN:DAYLIGHT
TZOFFSETFROM:-0400
TZOFFSETTO:-0300
TZNAME:ADT
DTSTART:20190310T060000
END:DAYLIGHT
BEGIN:STANDARD
TZOFFSETFROM:-0300
TZOFFSETTO:-0400
TZNAME:AST
DTSTART:20191103T050000
END:STANDARD
BEGIN:DAYLIGHT
TZOFFSETFROM:-0400
TZOFFSETTO:-0300
TZNAME:ADT
DTSTART:20200308T060000
END:DAYLIGHT
BEGIN:STANDARD
TZOFFSETFROM:-0300
TZOFFSETTO:-0400
TZNAME:AST
DTSTART:20201101T050000
END:STANDARD
END:VTIMEZONE
BEGIN:VEVENT
DTSTART;TZID=America/Halifax:20190927T150000
DTEND;TZID=America/Halifax:20190927T180000
DTSTAMP:20260424T204124
CREATED:20190909T201207Z
LAST-MODIFIED:20190924T164808Z
UID:26255-1569596400-1569607200@www.unaoc.org
SUMMARY:UNAOC Group of Friends Ministerial Meeting
DESCRIPTION:“Relevance of the Work of UNAOC to the United Nations Prevention Agenda and its Impact on the Ground”\nThe United Nations Alliance of Civilizations (UNAOC) will convene a Ministerial Meeting of its Group of Friends on Friday\, 27 September 2019\, 3:00pm to 6:00 pm\, in Conference Room 2 of the United Nations Headquarters. \nThe meeting will focus on the theme “Relevance of the Work of UNAOC to the United Nations Prevention Agenda and its Impact on the Ground”.  Mr. Miguel Ángel Moratinos\, High Representative for UNAOC\, will present his vision and priorities for the work of UNAOC for 2019-2023. \n\nProvisional ProgrammeNote on Organizational Modalities\nDownload (PDF\, 542KB) \n\n\n\nDownload (PDF\, 500KB)
URL:https://www.unaoc.org/event/group-of-friends-ministerial-meeting-2019/
LOCATION:UNHQ Conference Room 2\, United Nations Headquarters\, New York\, NY\, 10017\, United States
CATEGORIES:Group of Friends Meeting
END:VEVENT
END:VCALENDAR