BEGIN:VCALENDAR
VERSION:2.0
PRODID:-//United Nations Alliance of Civilizations (UNAOC) - ECPv6.15.20//NONSGML v1.0//EN
CALSCALE:GREGORIAN
METHOD:PUBLISH
X-ORIGINAL-URL:https://www.unaoc.org
X-WR-CALDESC:Events for United Nations Alliance of Civilizations (UNAOC)
REFRESH-INTERVAL;VALUE=DURATION:PT1H
X-Robots-Tag:noindex
X-PUBLISHED-TTL:PT1H
BEGIN:VTIMEZONE
TZID:America/Halifax
BEGIN:DAYLIGHT
TZOFFSETFROM:-0400
TZOFFSETTO:-0300
TZNAME:ADT
DTSTART:20180311T060000
END:DAYLIGHT
BEGIN:STANDARD
TZOFFSETFROM:-0300
TZOFFSETTO:-0400
TZNAME:AST
DTSTART:20181104T050000
END:STANDARD
BEGIN:DAYLIGHT
TZOFFSETFROM:-0400
TZOFFSETTO:-0300
TZNAME:ADT
DTSTART:20190310T060000
END:DAYLIGHT
BEGIN:STANDARD
TZOFFSETFROM:-0300
TZOFFSETTO:-0400
TZNAME:AST
DTSTART:20191103T050000
END:STANDARD
BEGIN:DAYLIGHT
TZOFFSETFROM:-0400
TZOFFSETTO:-0300
TZNAME:ADT
DTSTART:20200308T060000
END:DAYLIGHT
BEGIN:STANDARD
TZOFFSETFROM:-0300
TZOFFSETTO:-0400
TZNAME:AST
DTSTART:20201101T050000
END:STANDARD
END:VTIMEZONE
BEGIN:VEVENT
DTSTART;VALUE=DATE:20191014
DTEND;VALUE=DATE:20191015
DTSTAMP:20260420T152318
CREATED:20190906T191607Z
LAST-MODIFIED:20190930T213302Z
UID:26247-1571011200-1571097599@www.unaoc.org
SUMMARY:Deadline Extended: UNAOC Young Peacebuilders (4th Edition)
DESCRIPTION:The United Nations Alliance of Civilizations (UNAOC) is pleased to launch the call for applications for the 4th edition of the Young Peacebuilders programme\, focusing on the Middle East and North Africa region. The call is open to participants between 18 to 25 years old\, from the region\, with a strong interest in growing their ability to act as agents of peace in their community\, region and beyond and to prevent violent extremism through intercultural and interfaith dialogue. \nThe application deadline is September 30\, 2019\, October 14\, 2019\, 11:59 PM Eastern Daylight Time (New York). \n Read the eligibility criteria  Click here to apply now
URL:https://www.unaoc.org/event/deadline-unaoc-young-peacebuilders-4th-edition/
LOCATION:Online
CATEGORIES:Calls For Applications
END:VEVENT
END:VCALENDAR