BEGIN:VCALENDAR
VERSION:2.0
PRODID:-//United Nations Alliance of Civilizations (UNAOC) - ECPv6.15.20//NONSGML v1.0//EN
CALSCALE:GREGORIAN
METHOD:PUBLISH
X-ORIGINAL-URL:https://www.unaoc.org
X-WR-CALDESC:Events for United Nations Alliance of Civilizations (UNAOC)
REFRESH-INTERVAL;VALUE=DURATION:PT1H
X-Robots-Tag:noindex
X-PUBLISHED-TTL:PT1H
BEGIN:VTIMEZONE
TZID:America/Halifax
BEGIN:DAYLIGHT
TZOFFSETFROM:-0400
TZOFFSETTO:-0300
TZNAME:ADT
DTSTART:20180311T060000
END:DAYLIGHT
BEGIN:STANDARD
TZOFFSETFROM:-0300
TZOFFSETTO:-0400
TZNAME:AST
DTSTART:20181104T050000
END:STANDARD
BEGIN:DAYLIGHT
TZOFFSETFROM:-0400
TZOFFSETTO:-0300
TZNAME:ADT
DTSTART:20190310T060000
END:DAYLIGHT
BEGIN:STANDARD
TZOFFSETFROM:-0300
TZOFFSETTO:-0400
TZNAME:AST
DTSTART:20191103T050000
END:STANDARD
BEGIN:DAYLIGHT
TZOFFSETFROM:-0400
TZOFFSETTO:-0300
TZNAME:ADT
DTSTART:20200308T060000
END:DAYLIGHT
BEGIN:STANDARD
TZOFFSETFROM:-0300
TZOFFSETTO:-0400
TZNAME:AST
DTSTART:20201101T050000
END:STANDARD
END:VTIMEZONE
BEGIN:VEVENT
DTSTART;TZID=America/Halifax:20190906T170000
DTEND;TZID=America/Halifax:20190906T170000
DTSTAMP:20260421T072951
CREATED:20190725T183755Z
LAST-MODIFIED:20190830T182225Z
UID:26142-1567789200-1567789200@www.unaoc.org
SUMMARY:Deadline Extended: 2019 Youth Solidarity Fund Applications
DESCRIPTION:Deadline extended to Friday\, 6 September 2019 at 5:00 p.m. New York time \nThe United Nations Alliance of Civilizations (UNAOC) is pleased to invite youth-led organizations to apply for the Youth Solidarity Fund (YSF). The call is open to organizations from select countries whose work seeks to foster peaceful and inclusive societies through improved understanding and collaboration across cultures\, faiths and beliefs. \nLearn more here or click here to apply.
URL:https://www.unaoc.org/event/deadline-for-applications-2019-youth-solidarity-fund/
CATEGORIES:Calls For Applications
END:VEVENT
END:VCALENDAR