BEGIN:VCALENDAR
VERSION:2.0
PRODID:-//United Nations Alliance of Civilizations (UNAOC) - ECPv6.15.20//NONSGML v1.0//EN
CALSCALE:GREGORIAN
METHOD:PUBLISH
X-WR-CALNAME:United Nations Alliance of Civilizations (UNAOC)
X-ORIGINAL-URL:https://www.unaoc.org
X-WR-CALDESC:Events for United Nations Alliance of Civilizations (UNAOC)
REFRESH-INTERVAL;VALUE=DURATION:PT1H
X-Robots-Tag:noindex
X-PUBLISHED-TTL:PT1H
BEGIN:VTIMEZONE
TZID:America/Halifax
BEGIN:DAYLIGHT
TZOFFSETFROM:-0400
TZOFFSETTO:-0300
TZNAME:ADT
DTSTART:20230312T060000
END:DAYLIGHT
BEGIN:STANDARD
TZOFFSETFROM:-0300
TZOFFSETTO:-0400
TZNAME:AST
DTSTART:20231105T050000
END:STANDARD
BEGIN:DAYLIGHT
TZOFFSETFROM:-0400
TZOFFSETTO:-0300
TZNAME:ADT
DTSTART:20240310T060000
END:DAYLIGHT
BEGIN:STANDARD
TZOFFSETFROM:-0300
TZOFFSETTO:-0400
TZNAME:AST
DTSTART:20241103T050000
END:STANDARD
BEGIN:DAYLIGHT
TZOFFSETFROM:-0400
TZOFFSETTO:-0300
TZNAME:ADT
DTSTART:20250309T060000
END:DAYLIGHT
BEGIN:STANDARD
TZOFFSETFROM:-0300
TZOFFSETTO:-0400
TZNAME:AST
DTSTART:20251102T050000
END:STANDARD
END:VTIMEZONE
BEGIN:VEVENT
DTSTART;VALUE=DATE:20240301
DTEND;VALUE=DATE:20240304
DTSTAMP:20260421T034252
CREATED:20240223T173320Z
LAST-MODIFIED:20240223T173408Z
UID:34456-1709251200-1709510399@www.unaoc.org
SUMMARY:Antalya Diplomacy Forum 2024
DESCRIPTION:UNAOC will participate in the Antalya Diplomacy Forum\, which will take place on March 1-3\, 2024 in Antalya\, Türkiye. In its third edition\, this year’s Forum has an overarching theme of “Advancing Diplomacy in Times of Turmoil”\, with the aim of leading the discourse on the search for peace amid a turbulent period in human history. Mr. Miguel Ángel Moratinos\, Under-Secretary-General and High Representative for UNAOC\, is a panellist in a session entitled “Rising Racism\, Xenophobia and Islamophobia”. \nTo learn more\, visit https://antalyadf.org/en/adf-2024-en.
URL:https://www.unaoc.org/event/antalya-diplomacy-forum-2024/
LOCATION:Antalya\, Türkiye\, Antalya\, Turkey
END:VEVENT
END:VCALENDAR