BEGIN:VCALENDAR
VERSION:2.0
PRODID:-//United Nations Alliance of Civilizations (UNAOC) - ECPv6.15.20//NONSGML v1.0//EN
CALSCALE:GREGORIAN
METHOD:PUBLISH
X-WR-CALNAME:United Nations Alliance of Civilizations (UNAOC)
X-ORIGINAL-URL:https://www.unaoc.org
X-WR-CALDESC:Events for United Nations Alliance of Civilizations (UNAOC)
REFRESH-INTERVAL;VALUE=DURATION:PT1H
X-Robots-Tag:noindex
X-PUBLISHED-TTL:PT1H
BEGIN:VTIMEZONE
TZID:America/Halifax
BEGIN:DAYLIGHT
TZOFFSETFROM:-0400
TZOFFSETTO:-0300
TZNAME:ADT
DTSTART:20230312T060000
END:DAYLIGHT
BEGIN:STANDARD
TZOFFSETFROM:-0300
TZOFFSETTO:-0400
TZNAME:AST
DTSTART:20231105T050000
END:STANDARD
BEGIN:DAYLIGHT
TZOFFSETFROM:-0400
TZOFFSETTO:-0300
TZNAME:ADT
DTSTART:20240310T060000
END:DAYLIGHT
BEGIN:STANDARD
TZOFFSETFROM:-0300
TZOFFSETTO:-0400
TZNAME:AST
DTSTART:20241103T050000
END:STANDARD
BEGIN:DAYLIGHT
TZOFFSETFROM:-0400
TZOFFSETTO:-0300
TZNAME:ADT
DTSTART:20250309T060000
END:DAYLIGHT
BEGIN:STANDARD
TZOFFSETFROM:-0300
TZOFFSETTO:-0400
TZNAME:AST
DTSTART:20251102T050000
END:STANDARD
END:VTIMEZONE
BEGIN:VEVENT
DTSTART;VALUE=DATE:20240219
DTEND;VALUE=DATE:20240222
DTSTAMP:20260421T103430
CREATED:20240208T165859Z
LAST-MODIFIED:20240208T172828Z
UID:34357-1708300800-1708559999@www.unaoc.org
SUMMARY:Beyond War and Toward Reconciliation: Multi-Religious Peace Roundtables
DESCRIPTION:Religions for Peace International and Religions for Peace Japan\, with the support of the United Nations Alliance of Civilizations (UNAOC)\, proudly announce the convening of the second “Beyond War and Toward Reconciliation: Multi-Religious Peace Roundtables”\, scheduled to take place from 19-21 February 2024\, in Tokyo\, Japan. Building on the success of the inaugural Roundtable in 2022\, this event will bring together diverse religious and faith leaders\, policymakers\, and policy experts in a collaborative effort to explore innovative approaches to effective peacebuilding and discuss the impact of interfaith actions on global challenges. Click here to learn more. \nView the Press Release
URL:https://www.unaoc.org/event/beyond-war-and-toward-reconciliation-multi-religious-peace-roundtables/
LOCATION:Tokyo\, Japan\, Tokyo\, Japan
CATEGORIES:International Conference,UNAOC Events
END:VEVENT
BEGIN:VEVENT
DTSTART;VALUE=DATE:20240220
DTEND;VALUE=DATE:20240223
DTSTAMP:20260421T103430
CREATED:20240208T172716Z
LAST-MODIFIED:20240214T151803Z
UID:34367-1708387200-1708646399@www.unaoc.org
SUMMARY:International Conference on the Dialogue of Civilizations and Tolerance
DESCRIPTION:Register to Attend   Read the Press Release   \nThe United Nations Alliance of Civilizations (UNAOC) is pleased to support the International Conference on the Dialogue of Civilizations and Tolerance (“IDCT Conference”)\, to be held in Abu Dhabi\, United Arab Emirates from the 20th to the 22nd of February 2024. The event will convene representatives of the academia\, governments\, multilateral organizations\, and other stakeholders to jointly tackle questions at the core of the “Dialogue of Civilizations”.  \nThe global event is organized under the patronage of H.E Sheikh Nahyan bin Mubarak Al Nahyan\, Minister of Tolerance & Coexistence of the United Arab Emirates\, in collaboration with the Ministry of Tolerance & Coexistence of UAE\, and with the support of the United Nations Alliance of Civilizations (UNAOC). \nMore details are available on the conference website: https://www.idctconference.org/
URL:https://www.unaoc.org/event/international-conference-on-the-dialogue-of-civilizations-and-tolerance/
LOCATION:Abu Dhabi\, Abu Dhabi\, United Arab Emirates
CATEGORIES:International Conference,UNAOC Events
END:VEVENT
END:VCALENDAR