BEGIN:VCALENDAR
VERSION:2.0
PRODID:-//United Nations Alliance of Civilizations (UNAOC) - ECPv6.15.20//NONSGML v1.0//EN
CALSCALE:GREGORIAN
METHOD:PUBLISH
X-WR-CALNAME:United Nations Alliance of Civilizations (UNAOC)
X-ORIGINAL-URL:https://www.unaoc.org
X-WR-CALDESC:Events for United Nations Alliance of Civilizations (UNAOC)
REFRESH-INTERVAL;VALUE=DURATION:PT1H
X-Robots-Tag:noindex
X-PUBLISHED-TTL:PT1H
BEGIN:VTIMEZONE
TZID:America/Halifax
BEGIN:DAYLIGHT
TZOFFSETFROM:-0400
TZOFFSETTO:-0300
TZNAME:ADT
DTSTART:20220313T060000
END:DAYLIGHT
BEGIN:STANDARD
TZOFFSETFROM:-0300
TZOFFSETTO:-0400
TZNAME:AST
DTSTART:20221106T050000
END:STANDARD
BEGIN:DAYLIGHT
TZOFFSETFROM:-0400
TZOFFSETTO:-0300
TZNAME:ADT
DTSTART:20230312T060000
END:DAYLIGHT
BEGIN:STANDARD
TZOFFSETFROM:-0300
TZOFFSETTO:-0400
TZNAME:AST
DTSTART:20231105T050000
END:STANDARD
BEGIN:DAYLIGHT
TZOFFSETFROM:-0400
TZOFFSETTO:-0300
TZNAME:ADT
DTSTART:20240310T060000
END:DAYLIGHT
BEGIN:STANDARD
TZOFFSETFROM:-0300
TZOFFSETTO:-0400
TZNAME:AST
DTSTART:20241103T050000
END:STANDARD
END:VTIMEZONE
BEGIN:VEVENT
DTSTART;VALUE=DATE:20230613
DTEND;VALUE=DATE:20230616
DTSTAMP:20260421T162806
CREATED:20230502T142333Z
LAST-MODIFIED:20230502T145441Z
UID:32701-1686614400-1686873599@www.unaoc.org
SUMMARY:Parliamentary Conference on Interfaith Dialogue: Working Together for Our Common Future
DESCRIPTION:The United Nations Alliance of Civilizations (UNAOC) is pleased to announce that the Parliamentary Conference on Interfaith Dialogue: Working Together for Our Common Future will take place from 13 to 15 June 2023 in Marrakesh\, Morocco. The Conference is being organized by the Inter-Parliamentary Union and the Parliament of the Kingdom of Morocco in cooperation with Religions for Peace\, and with the support of the United Nations Alliance of Civilizations and the Mohammadia League of Religious Scholars. Those from the UNAOC network are invited to attend this conference and can register at no cost. Please note that participants are however expected to cover costs connected to their participation in the event (travel\, accommodation\, etc).  \nThe Conference will bring together speakers and members of parliament\, religious leaders\, representatives of civil society and other experts to engage in dialogue and share good practices around key issues standing in the way of sustainable co-existence and to jointly explore action points for building more peaceful and inclusive societies. It will also aim to develop a roadmap for joint action ahead. \nAdditional information\, including the programme overview\, concept note and note on practical arrangements is available at the following link: https://www.ipu.org/event/parliamentary-conference-interfaith-dialogue#event-sub-page-documents/
URL:https://www.unaoc.org/event/parliamentary-conference-on-interfaith-dialogue-working-together-for-our-common-future/
LOCATION:Marrakesh\, Morocco\, Marrakesh\, Morocco
CATEGORIES:International Conference
END:VEVENT
END:VCALENDAR