BEGIN:VCALENDAR
VERSION:2.0
PRODID:-//United Nations Alliance of Civilizations (UNAOC) - ECPv5.14.2.1//NONSGML v1.0//EN
CALSCALE:GREGORIAN
METHOD:PUBLISH
X-WR-CALNAME:United Nations Alliance of Civilizations (UNAOC)
X-ORIGINAL-URL:https://www.unaoc.org
X-WR-CALDESC:Events for United Nations Alliance of Civilizations (UNAOC)
BEGIN:VTIMEZONE
TZID:America/Halifax
BEGIN:DAYLIGHT
TZOFFSETFROM:-0400
TZOFFSETTO:-0300
TZNAME:ADT
DTSTART:20210314T060000
END:DAYLIGHT
BEGIN:STANDARD
TZOFFSETFROM:-0300
TZOFFSETTO:-0400
TZNAME:AST
DTSTART:20211107T050000
END:STANDARD
END:VTIMEZONE
BEGIN:VEVENT
DTSTART;TZID=America/Halifax:20211207T100000
DTEND;TZID=America/Halifax:20211207T123000
DTSTAMP:20221113T154512
CREATED:20211015T130105Z
LAST-MODIFIED:20211015T133448Z
UID:30567-1638871200-1638880200@www.unaoc.org
SUMMARY:2021 PLURAL+ Youth Video Festival Awards Ceremony
DESCRIPTION:2021 marks the thirteenth anniversary of the PLURAL+ Youth Video Festival\, a joint initiative of the United Nations Alliance of Civilizations (UNAOC) and the International Organization for Migration (IOM). On 7 December\, join PLURAL+ as we celebrate this year’s award-winning videos from young media makers around the world. \n Watch the PLURAL+ Youth Video Festival Live Here
URL:https://www.unaoc.org/event/2021-plural-youth-video-festival-awards-ceremony/
LOCATION:Virtual
END:VEVENT
END:VCALENDAR