BEGIN:VCALENDAR
VERSION:2.0
PRODID:-//United Nations Alliance of Civilizations (UNAOC) - ECPv6.15.20//NONSGML v1.0//EN
CALSCALE:GREGORIAN
METHOD:PUBLISH
X-WR-CALNAME:United Nations Alliance of Civilizations (UNAOC)
X-ORIGINAL-URL:https://www.unaoc.org
X-WR-CALDESC:Events for United Nations Alliance of Civilizations (UNAOC)
REFRESH-INTERVAL;VALUE=DURATION:PT1H
X-Robots-Tag:noindex
X-PUBLISHED-TTL:PT1H
BEGIN:VTIMEZONE
TZID:America/Halifax
BEGIN:DAYLIGHT
TZOFFSETFROM:-0400
TZOFFSETTO:-0300
TZNAME:ADT
DTSTART:20200308T060000
END:DAYLIGHT
BEGIN:STANDARD
TZOFFSETFROM:-0300
TZOFFSETTO:-0400
TZNAME:AST
DTSTART:20201101T050000
END:STANDARD
BEGIN:DAYLIGHT
TZOFFSETFROM:-0400
TZOFFSETTO:-0300
TZNAME:ADT
DTSTART:20210314T060000
END:DAYLIGHT
BEGIN:STANDARD
TZOFFSETFROM:-0300
TZOFFSETTO:-0400
TZNAME:AST
DTSTART:20211107T050000
END:STANDARD
BEGIN:DAYLIGHT
TZOFFSETFROM:-0400
TZOFFSETTO:-0300
TZNAME:ADT
DTSTART:20220313T060000
END:DAYLIGHT
BEGIN:STANDARD
TZOFFSETFROM:-0300
TZOFFSETTO:-0400
TZNAME:AST
DTSTART:20221106T050000
END:STANDARD
END:VTIMEZONE
BEGIN:VEVENT
DTSTART;TZID=America/Halifax:20211206T133000
DTEND;TZID=America/Halifax:20211206T153000
DTSTAMP:20260421T124721
CREATED:20211201T160627Z
LAST-MODIFIED:20211201T193336Z
UID:30753-1638797400-1638804600@www.unaoc.org
SUMMARY:A Tribute to the Memory of H.E. President Jorge Sampaio
DESCRIPTION:The United Nations Alliance of Civilizations (UNAOC) and the Mission of Portugal to the United Nations are co-organizing a tribute event to honor the memory of H.E. President Sampaio (1939-2021)\, who served as the first High Representative for UNAOC from 2007 to 2012.
URL:https://www.unaoc.org/event/tribute-president-sampaio/
LOCATION:UNHQ Conference Room 4\, United Nations Headquarters\, New York\, NY\, 10017\, United States
CATEGORIES:UNAOC Events
END:VEVENT
END:VCALENDAR