BEGIN:VCALENDAR
VERSION:2.0
PRODID:-//United Nations Alliance of Civilizations (UNAOC) - ECPv6.15.20//NONSGML v1.0//EN
CALSCALE:GREGORIAN
METHOD:PUBLISH
X-WR-CALNAME:United Nations Alliance of Civilizations (UNAOC)
X-ORIGINAL-URL:https://www.unaoc.org
X-WR-CALDESC:Events for United Nations Alliance of Civilizations (UNAOC)
REFRESH-INTERVAL;VALUE=DURATION:PT1H
X-Robots-Tag:noindex
X-PUBLISHED-TTL:PT1H
BEGIN:VTIMEZONE
TZID:America/Halifax
BEGIN:DAYLIGHT
TZOFFSETFROM:-0400
TZOFFSETTO:-0300
TZNAME:ADT
DTSTART:20200308T060000
END:DAYLIGHT
BEGIN:STANDARD
TZOFFSETFROM:-0300
TZOFFSETTO:-0400
TZNAME:AST
DTSTART:20201101T050000
END:STANDARD
BEGIN:DAYLIGHT
TZOFFSETFROM:-0400
TZOFFSETTO:-0300
TZNAME:ADT
DTSTART:20210314T060000
END:DAYLIGHT
BEGIN:STANDARD
TZOFFSETFROM:-0300
TZOFFSETTO:-0400
TZNAME:AST
DTSTART:20211107T050000
END:STANDARD
BEGIN:DAYLIGHT
TZOFFSETFROM:-0400
TZOFFSETTO:-0300
TZNAME:ADT
DTSTART:20220313T060000
END:DAYLIGHT
BEGIN:STANDARD
TZOFFSETFROM:-0300
TZOFFSETTO:-0400
TZNAME:AST
DTSTART:20221106T050000
END:STANDARD
END:VTIMEZONE
BEGIN:VEVENT
DTSTART;VALUE=DATE:20211012
DTEND;VALUE=DATE:20211014
DTSTAMP:20260420T173152
CREATED:20211011T132639Z
LAST-MODIFIED:20211011T133008Z
UID:30552-1633996800-1634169599@www.unaoc.org
SUMMARY:Malmö International Forum on Holocaust Remembrance and Combating Antisemitism
DESCRIPTION:UNAOC will be participating in the Malmö International Forum on Holocaust Remembrance and Combating Antisemitism: Remember ReAct\, which will take place at Malmömässan in Malmö\, Sweden. \n \n\nBackground \nIn February last year\, the original invitation to the Malmö International Forum on Holocaust Remembrance and Combating Antisemitism\, Remember ReAct\, from Swedish Prime Minister Stefan Löfven was distributed. The Malmö Forum was set to take place in October 2020. However\, due to the COVID-19 pandemic\, it was decided during the spring of 2021 that the Forum had to be postponed to October 2021.\nHeads of State or Government from around 50 countries\, researchers\, experts\, representatives of civil society and social media companies have been invited to the Malmö Forum. The aim of the Malmö Forum is to jointly take concrete steps forward in the work on Holocaust remembrance and the fight against antisemitism. The programme will focus on four main themes: \n\nHolocaust remembrance\nHolocaust education\nAntisemitism on social media\nCombating antisemitism and other forms of racism in all spheres of life\n\nTwo of the starting points for the Forum are the Stockholm Declaration adopted in 2000 and the 2020 International Holocaust Remembrance Alliance (IHRA) Ministerial Declaration. These declarations serve as foundations for action at both national and international level. For this reason\, the Swedish Government is not planning a negotiated outcome document from the Forum. The Government is instead asking participating countries\, organisations and companies to commit to concrete action that furthers the work related to the themes of the Forum. To this end\, all delegations are invited to present pledges consisting of new\, concrete initiatives to be implemented by their respective participating countries\, organisations and companies. The pledges will be included in an outcome document and followed up during the Swedish Presidency of the IHRA from March 2022 to February 2023. \nWebpage: https://www.government.se/government-policy/remember–react/ \nInstagram: rememberreact
URL:https://www.unaoc.org/event/malmo-international-forum-on-holocaust-remembrance-and-combating-antisemitism/
LOCATION:Malmö\, Sweden
CATEGORIES:International Conference
END:VEVENT
END:VCALENDAR