BEGIN:VCALENDAR
VERSION:2.0
PRODID:-//United Nations Alliance of Civilizations (UNAOC) - ECPv6.15.20//NONSGML v1.0//EN
CALSCALE:GREGORIAN
METHOD:PUBLISH
X-WR-CALNAME:United Nations Alliance of Civilizations (UNAOC)
X-ORIGINAL-URL:https://www.unaoc.org
X-WR-CALDESC:Events for United Nations Alliance of Civilizations (UNAOC)
REFRESH-INTERVAL;VALUE=DURATION:PT1H
X-Robots-Tag:noindex
X-PUBLISHED-TTL:PT1H
BEGIN:VTIMEZONE
TZID:America/Halifax
BEGIN:DAYLIGHT
TZOFFSETFROM:-0400
TZOFFSETTO:-0300
TZNAME:ADT
DTSTART:20200308T060000
END:DAYLIGHT
BEGIN:STANDARD
TZOFFSETFROM:-0300
TZOFFSETTO:-0400
TZNAME:AST
DTSTART:20201101T050000
END:STANDARD
BEGIN:DAYLIGHT
TZOFFSETFROM:-0400
TZOFFSETTO:-0300
TZNAME:ADT
DTSTART:20210314T060000
END:DAYLIGHT
BEGIN:STANDARD
TZOFFSETFROM:-0300
TZOFFSETTO:-0400
TZNAME:AST
DTSTART:20211107T050000
END:STANDARD
BEGIN:DAYLIGHT
TZOFFSETFROM:-0400
TZOFFSETTO:-0300
TZNAME:ADT
DTSTART:20220313T060000
END:DAYLIGHT
BEGIN:STANDARD
TZOFFSETFROM:-0300
TZOFFSETTO:-0400
TZNAME:AST
DTSTART:20221106T050000
END:STANDARD
END:VTIMEZONE
BEGIN:VEVENT
DTSTART;TZID=America/Halifax:20210713T110000
DTEND;TZID=America/Halifax:20210713T120000
DTSTAMP:20260421T124712
CREATED:20210708T194647Z
LAST-MODIFIED:20210708T202932Z
UID:30190-1626174000-1626177600@www.unaoc.org
SUMMARY:UNAOC Virtual Watch Party for the Safeguard of Religious Sites
DESCRIPTION:UNAOC Virtual Watch Party for the Safeguard of Religious Sites\nThursday\, 13 July\, 2021 | 11:00 AM EDT | Online \n\nJoin us for a virtual “watch party” featuring short films submitted by the global community as part of UNAOC’s campaign #forSafeWorship to safeguard religious sites and worshippers worldwide! To learn more about the global call to action #forSafeWorship and submit your own video\, visit https://forsafeworship.org/.  \nJoin the Watch Party Live Here\n\n \nFeatured Videos \n\nReligious Sites in Egypt by Sandra Gobran (Egypt) \nSynopsis: In this short video\, Sandra tells us about temples and tombs in Egypt and the importance of ensuring that all religious sites are safe.\nhttps://forsafeworship.org/religious-sites-in-egypt/  \nA Dialogue between “la Bomba” and Catholic Rituals in Puerto Rico by Father Rocendo Herrera (Puerto Rico)\nSynopsis: In this short video\, we meet Father Rocendo Herrera\, who introduces us to St. Patrick Church of the Holy Spirit\, in Loiza\, on the northeastern coast of Puerto Rico. St. Patrick Church of the Holy Spirit is the third oldest parish on the island and the only one currently in use. Located in an Afro-Caribbean municipality in Puerto Rico\, this place of worship embodies a dialogue between Catholicism and the playing of Puerto Rican drums known as “La Bomba”.\nhttps://forsafeworship.org/a-dialogue-between-la-bomba-and-catholic-rituals-in-puerto-rico/  \nA Dialogue between “la Bomba” and Catholic Rituals in Puerto Rico by Afaf Lamkoutar (Morocco)\nSynopsis: In this short video\, UNAOC Young Peacebuilder Afaf speaks about the many cultures\, religions\, and sacred sites in her hometown of Rabat\, Morocco.\nhttps://forsafeworship.org/a-mosaic-of-religions-in-rabat-morocco/ \nA Chapel with Special Powers by Ismael Lopez (Spain)\nSynopsis: In this video\, Ismael takes us on a tour of the Church of St. Valenti in the Valley of Salarça\, in Catalonia\, Spain. Built in the 12th century\, the chapel’s location\, according to legend\, exudes a certain energy that helps people solve all types of problems and conflicts.\nhttps://forsafeworship.org/a-chapel-with-special-powers/  \nExploring Religious Sites in the Philippines by Theodore Boborol (Philippines)\nSynopsis: In this short video\, Theodore takes us on a tour of his university campus\, shows us his favorite church on campus grounds\, and leads us to a few side detours down memory lane.\nhttps://forsafeworship.org/exploring-religious-sites-in-the-philippines-director-theodore-boborol/\n\n\nThe Monastery of San Lorenzo de El Escorial by Daniel del Valle (Spain)\nSynopsis: In this short film\, Daniel takes us on a tour of the Monastery of San Lorenzo de El Escorial\, where he once lived and studied as a member of the Royal Choir of Spain.\nhttps://forsafeworship.org/the-monastery-of-san-lorenzo-de-el-escorial/ \nThe Basilica of the National Shrine of Our Lady of San Juan del Valle in South Texas\, USA by Lydia Pesina (USA)\nSynopsis: In this short film\, Lydia tells us about the Basilica of the National Shrine of Our Lady of San Juan del Valle\, in South Texas\, a very special place in her life since childhood. The Basilica caters to a diverse population\, including a large immigrant community\, and even has its own Mariachi band!\nhttps://forsafeworship.org/basilica-lady-of-sanjuan-delvalle/ \nReligious Diversity in Indonesia by Steve Leonard Harison (Indonesia)\nSynopsis: In this short video\, Steve talks to us about religious diversity in Indonesia and the importance of protecting religious sites worldwide.\nhttps://forsafeworship.org/religious-diversity-in-indonesia/ \nThe Coronado Cross in Kansas by Gentry (USA)\nSynopsis: In this short video\, Gentry takes us to Kansas\, right outside of Dodge City\, to see the Coronado Cross. The site commemorates a mass held for the first time in this part of the country by Father Juan de Padilla in 1541\, predating the landing of the Pilgrims by almost 100 years.\nhttps://forsafeworship.org/the-coronado-cross-in-kansas/ \nA Religious Site with Interfaith Influences in Bangladesh by Tushar Kanti Baidya (Bangladesh)\nSynopsis: In this short video\, UNAOC alumnus Tushar tells us about a temple he likes to visit in Bangladesh\, and the significance of this site in his life.\nhttps://forsafeworship.org/a-religious-site-with-interfaith-influences-in-bangladesh/
URL:https://www.unaoc.org/event/unaoc-virtual-watch-party-for-the-safeguard-of-religious-sites/
LOCATION:Online
CATEGORIES:UNAOC Events
END:VEVENT
END:VCALENDAR