BEGIN:VCALENDAR
VERSION:2.0
PRODID:-//United Nations Alliance of Civilizations (UNAOC) - ECPv5.14.2.1//NONSGML v1.0//EN
CALSCALE:GREGORIAN
METHOD:PUBLISH
X-WR-CALNAME:United Nations Alliance of Civilizations (UNAOC)
X-ORIGINAL-URL:https://www.unaoc.org
X-WR-CALDESC:Events for United Nations Alliance of Civilizations (UNAOC)
BEGIN:VTIMEZONE
TZID:America/Halifax
BEGIN:DAYLIGHT
TZOFFSETFROM:-0400
TZOFFSETTO:-0300
TZNAME:ADT
DTSTART:20210314T060000
END:DAYLIGHT
BEGIN:STANDARD
TZOFFSETFROM:-0300
TZOFFSETTO:-0400
TZNAME:AST
DTSTART:20211107T050000
END:STANDARD
END:VTIMEZONE
BEGIN:VEVENT
DTSTART;TZID=America/Halifax:20210309T080000
DTEND;TZID=America/Halifax:20210309T170000
DTSTAMP:20221113T162438
CREATED:20210223T181405Z
LAST-MODIFIED:20210223T181405Z
UID:29358-1615276800-1615309200@www.unaoc.org
SUMMARY:Deadline for Applications: Training Handbook Specialist for Peace Educators
DESCRIPTION:
URL:https://www.unaoc.org/2021/02/vacancy-announcement-training-handbook-specialist-for-peace-educators/
CATEGORIES:Calls For Applications
END:VEVENT
END:VCALENDAR