BEGIN:VCALENDAR
VERSION:2.0
PRODID:-//United Nations Alliance of Civilizations (UNAOC) - ECPv6.15.20//NONSGML v1.0//EN
CALSCALE:GREGORIAN
METHOD:PUBLISH
X-WR-CALNAME:United Nations Alliance of Civilizations (UNAOC)
X-ORIGINAL-URL:https://www.unaoc.org
X-WR-CALDESC:Events for United Nations Alliance of Civilizations (UNAOC)
REFRESH-INTERVAL;VALUE=DURATION:PT1H
X-Robots-Tag:noindex
X-PUBLISHED-TTL:PT1H
BEGIN:VTIMEZONE
TZID:America/Halifax
BEGIN:DAYLIGHT
TZOFFSETFROM:-0400
TZOFFSETTO:-0300
TZNAME:ADT
DTSTART:20190310T060000
END:DAYLIGHT
BEGIN:STANDARD
TZOFFSETFROM:-0300
TZOFFSETTO:-0400
TZNAME:AST
DTSTART:20191103T050000
END:STANDARD
BEGIN:DAYLIGHT
TZOFFSETFROM:-0400
TZOFFSETTO:-0300
TZNAME:ADT
DTSTART:20200308T060000
END:DAYLIGHT
BEGIN:STANDARD
TZOFFSETFROM:-0300
TZOFFSETTO:-0400
TZNAME:AST
DTSTART:20201101T050000
END:STANDARD
BEGIN:DAYLIGHT
TZOFFSETFROM:-0400
TZOFFSETTO:-0300
TZNAME:ADT
DTSTART:20210314T060000
END:DAYLIGHT
BEGIN:STANDARD
TZOFFSETFROM:-0300
TZOFFSETTO:-0400
TZNAME:AST
DTSTART:20211107T050000
END:STANDARD
END:VTIMEZONE
BEGIN:VEVENT
DTSTART;VALUE=DATE:20201005
DTEND;VALUE=DATE:20201105
DTSTAMP:20260421T045726
CREATED:20201005T140743Z
LAST-MODIFIED:20201021T145402Z
UID:28394-1601856000-1604534399@www.unaoc.org
SUMMARY:2020 UNAOC Fellowship Programme
DESCRIPTION:“Building Peace in the Age of New Media”\nA Virtual Edition of the UNAOC Fellowship Programme\n\n\nIn its online configuration\, the 2020 UNAOC Fellowship Programme will take the form of a virtual engagement programme consolidated over 18 days and preceded by an introduction phase of two weeks. The theme is “Building peace in the age of new media” and 20 Fellows from Europe\, North America and the MENA region have been selected for their experience in the fields of media and peacebuilding.   \nFrom 5 to 16 October\, 2020 UNAOC Fellows will be introduced to three online modules on intercultural and interreligious dialogue\, media and peacebuilding\, in line with the 2020 theme “Building peace in the age of new media”. Developed by UNAOC and trainers\, each module will introduce Fellows to global trends\, key concepts and good practices in the above-mentioned fields\, with a focus on the different contexts across Europe\, North America\, the Middle East and North Africa.  \nFrom 19 to 28 October\, each cohort will then engage separately in online conversations with relevant actors from six countries. For each country\, Fellows will engage in a series of 60-minute online discussions with (a) government and official representatives\, (b) religious and community leaders\, (c) journalists and media professionals\, (d) civil society organizations and representatives of grassroots initiatives. The topics of these exchanges will revolve around intercultural and interreligious dialogue\, as well as the 2020 theme “Building peace in the age of new media”. Cohorts will debrief regularly\, both separately and jointly. When feasible\, participants will also engage in virtual activities that will introduce them to the cultural diversity of the destination countries. \nFrom 29 October to 4 November\, Fellows will engage in webinars and online workshops focusing on (a) interreligious and intercultural dialogue and (b) on “Building peace in the age of new media” and through various pedagogical methods. Each section will offer a webinar developed in collaboration with KAICIID and four online workshops – two workshops will engage cohorts separately and two will engage them together. During these workshops\, Fellows will strengthen their competencies in the fields of intercultural and interreligious dialogue\, media\, and peacebuilding\, and collaborate to develop material and recommendations on ways to use media and information technology to support the global community and international organizations in their work towards sustainable peace and conflict prevention. \n\n\n\nAgenda \n\n 5-16 October: Introduction  \n\n 19-28 October: Virtual exposure  \n\n 29 October – 3 November: Capacity building activities  \n\n 29-30 October: Intercultural and interreligious dialogue \n\n 2-3 November: Building peace in the age of new media \n\n 11 November: Conclusion \n\n\nBios: 2020 EUNA Fellows \nBios: 2020 MENA Fellows
URL:https://www.unaoc.org/event/2020-unaoc-fellowship-programme/
LOCATION:Online
CATEGORIES:UNAOC Events
END:VEVENT
BEGIN:VEVENT
DTSTART;TZID=America/Halifax:20201028T090000
DTEND;TZID=America/Halifax:20201028T110000
DTSTAMP:20260421T045726
CREATED:20201026T180134Z
LAST-MODIFIED:20201026T180412Z
UID:28706-1603875600-1603882800@www.unaoc.org
SUMMARY:United Nations Roundtable of Media and Information Literacy Global Media and Information Literacy Week 2020
DESCRIPTION:Resisting Disinfodemic: Media and Information Literacy for Everybody and by Everybody \nMs. Nihal Saad\, Chief of Cabinet and Spokesperson for the United Nations Alliance of Civilizations (UNAOC)\, will participate at the UN Roundtable of Media and Information Literacy Global Media and Information Literacy Week 2020\, with the theme “Resisting Disinfodemic: Media and Information Literacy for Everybody and by Everybody”.\n \n \n\nAs disinformation has become a cross-cutting problem for the different goals of the 2030 Sustainable Development agenda\, so too different UN agencies may find shared interests in the role of Media and Information Literacy (MIL) as part of the responses. This document outlines some ways in which MIL is relevant to the mandates of different members of the UN family\, and possible points of co-operation. This novel first round of discussions may lay the ground for continued dialogues and practical steps forward. \nLearn More
URL:https://www.unaoc.org/event/united-nations-roundtable-of-media-and-information-literacy-global-media-and-information-literacy-week-2020/
CATEGORIES:International Conference
END:VEVENT
BEGIN:VEVENT
DTSTART;TZID=America/Halifax:20201028T110000
DTEND;TZID=America/Halifax:20201028T120000
DTSTAMP:20260421T045726
CREATED:20201021T163733Z
LAST-MODIFIED:20201026T182733Z
UID:28650-1603882800-1603886400@www.unaoc.org
SUMMARY:2020 Balkans Forum Against Anti-Semitism
DESCRIPTION:Mr. Miguel Moratinos\, High Representative for the United Nations Alliance of Civilizations (UNAOC)\, will participate in the 2020 Balkans Forum Against Anti-Semitism\, hosted by the Parliament of the Republic of Albania\, in partnership with the Combat anti-Semitism Movement (CAM) and the Jewish Agency for Israel.  \nThe Forum will take place on October 28th\, 2020 at 16:00 CET / 11:00 AM EST. \nThe aim of the conference is to create a united front among the Balkans to work together in order to eradicate the scourge of anti-Semitism from our discourse and to create better\, more tolerant societies for future generations. \nRegister for the 2020 Balkans Forum Against Anti-Semitism Watch Live on YouTube
URL:https://www.unaoc.org/event/2020-balkans-forum-against-anti-semitism/
LOCATION:Online
CATEGORIES:International Conference,Virtual Conference
END:VEVENT
END:VCALENDAR