BEGIN:VCALENDAR
VERSION:2.0
PRODID:-//United Nations Alliance of Civilizations (UNAOC) - ECPv6.15.20//NONSGML v1.0//EN
CALSCALE:GREGORIAN
METHOD:PUBLISH
X-WR-CALNAME:United Nations Alliance of Civilizations (UNAOC)
X-ORIGINAL-URL:https://www.unaoc.org
X-WR-CALDESC:Events for United Nations Alliance of Civilizations (UNAOC)
REFRESH-INTERVAL;VALUE=DURATION:PT1H
X-Robots-Tag:noindex
X-PUBLISHED-TTL:PT1H
BEGIN:VTIMEZONE
TZID:America/Halifax
BEGIN:DAYLIGHT
TZOFFSETFROM:-0400
TZOFFSETTO:-0300
TZNAME:ADT
DTSTART:20170312T060000
END:DAYLIGHT
BEGIN:STANDARD
TZOFFSETFROM:-0300
TZOFFSETTO:-0400
TZNAME:AST
DTSTART:20171105T050000
END:STANDARD
BEGIN:DAYLIGHT
TZOFFSETFROM:-0400
TZOFFSETTO:-0300
TZNAME:ADT
DTSTART:20180311T060000
END:DAYLIGHT
BEGIN:STANDARD
TZOFFSETFROM:-0300
TZOFFSETTO:-0400
TZNAME:AST
DTSTART:20181104T050000
END:STANDARD
BEGIN:DAYLIGHT
TZOFFSETFROM:-0400
TZOFFSETTO:-0300
TZNAME:ADT
DTSTART:20190310T060000
END:DAYLIGHT
BEGIN:STANDARD
TZOFFSETFROM:-0300
TZOFFSETTO:-0400
TZNAME:AST
DTSTART:20191103T050000
END:STANDARD
END:VTIMEZONE
BEGIN:VEVENT
DTSTART;TZID=America/Halifax:20181121T170000
DTEND;TZID=America/Halifax:20181121T170000
DTSTAMP:20260419T134451
CREATED:20181109T173807Z
LAST-MODIFIED:20181109T173859Z
UID:24682-1542819600-1542819600@www.unaoc.org
SUMMARY:Deadline for Applications: Consultant for Independent Evaluation of the Young Peacebuilders Programme- MENA edition
DESCRIPTION:Background \nGuided by the principle that youth are key actors in achieving peace and social inclusion\, the Young Peacebuilders Programme (YPB) supports young people as they gain skills that can enhance their positive role in issues of peace and security and in preventing violent conflict\, while bringing visibility to the initiatives\, actions\, and projects initiated by young people towards peacebuilding and promoting diversity and human rights. The programme also equips them with tools to address stereotypes\, prejudice\, and polarization in order to build more inclusive and peaceful societies in their local communities and on a global scale. \nRead the full Terms of Reference here.
URL:https://www.unaoc.org/event/deadline-for-applications-consultant-for-independent-evaluation-young-peacebuilders/
END:VEVENT
END:VCALENDAR