BEGIN:VCALENDAR
VERSION:2.0
PRODID:-//United Nations Alliance of Civilizations (UNAOC) - ECPv6.15.20//NONSGML v1.0//EN
CALSCALE:GREGORIAN
METHOD:PUBLISH
X-WR-CALNAME:United Nations Alliance of Civilizations (UNAOC)
X-ORIGINAL-URL:https://www.unaoc.org
X-WR-CALDESC:Events for United Nations Alliance of Civilizations (UNAOC)
REFRESH-INTERVAL;VALUE=DURATION:PT1H
X-Robots-Tag:noindex
X-PUBLISHED-TTL:PT1H
BEGIN:VTIMEZONE
TZID:America/Halifax
BEGIN:DAYLIGHT
TZOFFSETFROM:-0400
TZOFFSETTO:-0300
TZNAME:ADT
DTSTART:20170312T060000
END:DAYLIGHT
BEGIN:STANDARD
TZOFFSETFROM:-0300
TZOFFSETTO:-0400
TZNAME:AST
DTSTART:20171105T050000
END:STANDARD
BEGIN:DAYLIGHT
TZOFFSETFROM:-0400
TZOFFSETTO:-0300
TZNAME:ADT
DTSTART:20180311T060000
END:DAYLIGHT
BEGIN:STANDARD
TZOFFSETFROM:-0300
TZOFFSETTO:-0400
TZNAME:AST
DTSTART:20181104T050000
END:STANDARD
BEGIN:DAYLIGHT
TZOFFSETFROM:-0400
TZOFFSETTO:-0300
TZNAME:ADT
DTSTART:20190310T060000
END:DAYLIGHT
BEGIN:STANDARD
TZOFFSETFROM:-0300
TZOFFSETTO:-0400
TZNAME:AST
DTSTART:20191103T050000
END:STANDARD
END:VTIMEZONE
BEGIN:VEVENT
DTSTART;VALUE=DATE:20180829
DTEND;VALUE=DATE:20181015
DTSTAMP:20260419T134533
CREATED:20180515T181538Z
LAST-MODIFIED:20180518T142026Z
UID:23846-1535500800-1539561599@www.unaoc.org
SUMMARY:UNAOC Fellowship Programme 2018: "Fostering youth resilience to prevent violent extremism and build sustainable peace"
DESCRIPTION:The UNAOC Fellowship Programme aims to build bridges between cultures and societies through dialogue and cooperation\, and to reinforce the global commitment to live together in mutual tolerance and respect.  \n\n For more information about the UNAOC Fellowship Program\, please visit its website.\n To read about this year’s Fellowship programme and the bios of the 2018 Fellows\, click here. \n\nFellowship Dates: \n\n 29 August – 12 September:\n2018 UNAOC Fellows from Europe and North America will travel to:  \n\n 29 August – 2 September: \nRabat and Casablanca\, Morocco \n\n 2 – 7 September:  \nCairo\, Egypt \n\n 7 – 12 September:  \nDoha\, Qatar \n\n\n\n 30 September – 14 October:\n2018 UNAOC Fellows from the Middle East and North Africa will travel to:  \n\n 30 September – 3 October:  \nWashington D.C.\, U.S.A. \n\n 3 – 6 October:  \nNew York\, U.S.A. \n\n 7 – 10 October:  \nBerlin\, Germany \n\n 10 – 14 October:  \nMadrid\, Spain
URL:https://www.unaoc.org/event/fellowship-programme-2018/
CATEGORIES:UNAOC Events
ATTACH;FMTTYPE=image/png:https://www.unaoc.org/wp-content/uploads/fellows2018-slider.png
END:VEVENT
BEGIN:VEVENT
DTSTART;TZID=America/Halifax:20180928T100000
DTEND;TZID=America/Halifax:20180928T113000
DTSTAMP:20260419T134533
CREATED:20180924T131950Z
LAST-MODIFIED:20180924T171406Z
UID:24620-1538128800-1538134200@www.unaoc.org
SUMMARY:Innovation and technology foster inclusion and intercultural dialogue: the Talmud Project
DESCRIPTION:On September 28\, in the framework of the High-level week of the 73rd UN General Assembly\, UNAOC is co-organizing with the Permanent Representation of Italy to the United Nations a side event entitled “Innovation and technology foster inclusion and intercultural dialogue: The Talmud Project.” \nThis gathering\, co-sponsored by the Permanent Missions of Israel and the Republic of Albania\, is aimed at presenting the first ever translation of the Babylonian Talmud from ancient Aramaic into Italian. The event will take place at the UN Headquarters (Conference Room 11) in New York\, from 10:00 to 11:30. \nDownload (PDF\, 424KB)
URL:https://www.unaoc.org/event/innovation-and-technology-foster-inclusion-and-intercultural-dialogue-the-talmud-project/
LOCATION:UNHQ Conference Room 11
CATEGORIES:UNAOC Events
END:VEVENT
BEGIN:VEVENT
DTSTART;TZID=America/Halifax:20180928T150000
DTEND;TZID=America/Halifax:20180928T180000
DTSTAMP:20260419T134533
CREATED:20180906T192114Z
LAST-MODIFIED:20180928T140227Z
UID:24585-1538146800-1538157600@www.unaoc.org
SUMMARY:UNAOC Group of Friends Ministerial Meeting
DESCRIPTION:Building Bridges: Using Soft Power to Promote a Culture of Peace \nThe United Nations Secretary-General has committed to a vision of what he describes as sustaining peace. The Security Council and the General Assembly view this approach as “both a goal and a process to build a common vision of a society\, ensuring that the needs of all segments of the population are taken into account”. This past April\, the Secretary-General addressed the General Assembly on the issue of peacebuilding and said\, “we need a holistic approach which prioritizes prevention and addresses the root causes of conflict by integrating peace\, sustainable development and human rights”.  (Read more in the concept note below.) \nAGENDACONCEPT NOTEDownload (PDF\, 491KB) \n\nDownload (PDF\, 527KB)
URL:https://www.unaoc.org/event/gof-ministerial-meeting-sept2018/
LOCATION:Trusteeship Council Chamber\, UNHQ New York\, Conference Building\, UNHQ\, New York\, NY\, United States
CATEGORIES:Group of Friends Meeting
END:VEVENT
END:VCALENDAR