BEGIN:VCALENDAR
VERSION:2.0
PRODID:-//United Nations Alliance of Civilizations (UNAOC) - ECPv6.15.20//NONSGML v1.0//EN
CALSCALE:GREGORIAN
METHOD:PUBLISH
X-WR-CALNAME:United Nations Alliance of Civilizations (UNAOC)
X-ORIGINAL-URL:https://www.unaoc.org
X-WR-CALDESC:Events for United Nations Alliance of Civilizations (UNAOC)
REFRESH-INTERVAL;VALUE=DURATION:PT1H
X-Robots-Tag:noindex
X-PUBLISHED-TTL:PT1H
BEGIN:VTIMEZONE
TZID:America/Halifax
BEGIN:DAYLIGHT
TZOFFSETFROM:-0400
TZOFFSETTO:-0300
TZNAME:ADT
DTSTART:20170312T060000
END:DAYLIGHT
BEGIN:STANDARD
TZOFFSETFROM:-0300
TZOFFSETTO:-0400
TZNAME:AST
DTSTART:20171105T050000
END:STANDARD
BEGIN:DAYLIGHT
TZOFFSETFROM:-0400
TZOFFSETTO:-0300
TZNAME:ADT
DTSTART:20180311T060000
END:DAYLIGHT
BEGIN:STANDARD
TZOFFSETFROM:-0300
TZOFFSETTO:-0400
TZNAME:AST
DTSTART:20181104T050000
END:STANDARD
BEGIN:DAYLIGHT
TZOFFSETFROM:-0400
TZOFFSETTO:-0300
TZNAME:ADT
DTSTART:20190310T060000
END:DAYLIGHT
BEGIN:STANDARD
TZOFFSETFROM:-0300
TZOFFSETTO:-0400
TZNAME:AST
DTSTART:20191103T050000
END:STANDARD
END:VTIMEZONE
BEGIN:VEVENT
DTSTART;TZID=America/Halifax:20180710T100000
DTEND;TZID=America/Halifax:20180710T130000
DTSTAMP:20260420T173200
CREATED:20180601T185955Z
LAST-MODIFIED:20180706T162647Z
UID:24059-1531216800-1531227600@www.unaoc.org
SUMMARY:Strengthening Interreligious and Intercultural Dialogue through Knowledge Sharing:  Opportunities and Challenges
DESCRIPTION:Organized by UNAOC and KAICIID International Dialogue Centre \nThe United Nations Alliance of Civilizations (UNAOC) and the KAICIID International Dialogue Centre are co-organizing an event entitled “Strengthening Interreligious and Intercultural Dialogue through Knowledge Sharing: Opportunities and Challenges”\, to be held on 10 July 2018\, 10:00 AM to 1:00 PM\, at the United Nations Headquarters. \n\nClick to view:  Concept Note   Agenda   Flyer \n\nBACKGROUND: \nIn face of the global scourges of violent extremism\, xenophobia and discrimination\, the promotion of a culture of peace and dialogue at the local\, national\, and international levels has become more than ever crucial to the security and well-being of our societies.  \nTeaching the values of reconciliation\, tolerance and respect between cultures\, religions and beliefs\, should be a priority for educators and curriculum developers\, disregarding whether they target diplomats\, politicians\, media experts or young children. \nAs one of the leading entities in the United Nations system for the promotion of interfaith and intercultural dialogue\, the United Nations Alliance of Civilizations (UNAOC) has been working for more than a decade on building bridges between people and communities from different cultures and religions.  \nOver the years\, UNAOC has developed a solid expertise in the field of interreligious/ intercultural dialogue (IRD/ICD).  \nWith the support of a variety of partners\, UNAOC has implemented a wide portfolio of activities with the aim to foster cross-cultural understanding and respect for diversity. As a result\, the Alliance has established a growing network of Alumni involved all over the globe in different fields of work and areas of expertise\, but all strongly committed to UNAOC mission.  \nThrough its activities\, UNAOC has contributed to empower innovative civil society leaders and organizations\, working on harnessing the power of online platforms to strengthen IRD/ICD. \n  \n Read more in the concept note below   \n \n\n\nCONCEPT NOTEAGENDAFLYERDownload (PDF\, 190KB) \n \nDownload (PDF\, 168KB) \n \nDownload (PDF\, 795KB)
URL:https://www.unaoc.org/event/strengthening-interreligious-and-intercultural-dialogue-through-knowledge-sharing-opportunities-and-challenges/
LOCATION:Conference Room 9\, UNHQ\, New York\, NY\, United States
CATEGORIES:Summit,UNAOC Events
END:VEVENT
END:VCALENDAR