BEGIN:VCALENDAR
VERSION:2.0
PRODID:-//United Nations Alliance of Civilizations (UNAOC) - ECPv6.15.20//NONSGML v1.0//EN
CALSCALE:GREGORIAN
METHOD:PUBLISH
X-ORIGINAL-URL:https://www.unaoc.org
X-WR-CALDESC:Events for United Nations Alliance of Civilizations (UNAOC)
REFRESH-INTERVAL;VALUE=DURATION:PT1H
X-Robots-Tag:noindex
X-PUBLISHED-TTL:PT1H
BEGIN:VTIMEZONE
TZID:America/Halifax
BEGIN:DAYLIGHT
TZOFFSETFROM:-0400
TZOFFSETTO:-0300
TZNAME:ADT
DTSTART:20170312T060000
END:DAYLIGHT
BEGIN:STANDARD
TZOFFSETFROM:-0300
TZOFFSETTO:-0400
TZNAME:AST
DTSTART:20171105T050000
END:STANDARD
BEGIN:DAYLIGHT
TZOFFSETFROM:-0400
TZOFFSETTO:-0300
TZNAME:ADT
DTSTART:20180311T060000
END:DAYLIGHT
BEGIN:STANDARD
TZOFFSETFROM:-0300
TZOFFSETTO:-0400
TZNAME:AST
DTSTART:20181104T050000
END:STANDARD
BEGIN:DAYLIGHT
TZOFFSETFROM:-0400
TZOFFSETTO:-0300
TZNAME:ADT
DTSTART:20190310T060000
END:DAYLIGHT
BEGIN:STANDARD
TZOFFSETFROM:-0300
TZOFFSETTO:-0400
TZNAME:AST
DTSTART:20191103T050000
END:STANDARD
END:VTIMEZONE
BEGIN:VEVENT
DTSTART;TZID=America/Halifax:20180628T131500
DTEND;TZID=America/Halifax:20180628T144500
DTSTAMP:20260420T003507
CREATED:20180522T193239Z
LAST-MODIFIED:20180629T162129Z
UID:23927-1530191700-1530197100@www.unaoc.org
SUMMARY:Countering and Preventing Violent Extremism through Communications and Empowerment Strategies Involving Youth
DESCRIPTION:UN-CTED and UNAOC\, on behalf of the CTITF Working Group on Communications chaired by UN DPI\, are co-organizing a side-event at the margins of the United Nations High-Level Conference on Counter-Terrorism. Co-sponsored by the Permanent Missions of Finland and Jordan to the United Nations\, the event is titled “Countering and Preventing Violent Extremism through Communications and Empowerment Strategies Involving Youth”. It is scheduled to take place on 28 June 2018 from 13h15 – 14h45 in Conference Room 9\, United Nations Secretariat Building. \nThe side-event will provide an opportunity to share experiences and good practices by Member States\, United Nations entities\, media experts and civil-society organizations in communicating with youth and youth-based organizations\, in both on-line and off-line spaces\, with a view to countering and preventing violent extremism through communications and empowerment strategies involving youth. One of the primary objectives is to share good practices and experiences in developing communications initiatives to counter terrorist narratives and to strengthen youth resiliency.\n \n\n High Representative’s Opening Remarks\n View the Webcast \n\n\n\n\n\nAGENDAFLYERPRESENTATIONS Download (PDF\, 403KB) \n\nDownload (PDF\, 895KB) \n\n\nMs. Tarja Mankkinen\, Head of Development\, Police Department\, Ministry of the Interior of Finland \n \n\nMr. Moustafa Ayad\, Head\, International Communications Programmes\, Institute for Strategic Dialogue (ISD) \n \n\nMr. Matteo Sestito\, Political Analyst and Public Information Officer\, United Nations Alliance of Civilizations (UNAOC)
URL:https://www.unaoc.org/event/countering-and-preventing-violent-extremism-through-communications-and-empowerment-strategies-involving-youth/
LOCATION:UN Headquarters\, Conference Room 9\, United Nations\, New York\, NY\, 10017\, United States
CATEGORIES:UNAOC Events
END:VEVENT
END:VCALENDAR