BEGIN:VCALENDAR
VERSION:2.0
PRODID:-//United Nations Alliance of Civilizations (UNAOC) - ECPv6.15.20//NONSGML v1.0//EN
CALSCALE:GREGORIAN
METHOD:PUBLISH
X-ORIGINAL-URL:https://www.unaoc.org
X-WR-CALDESC:Events for United Nations Alliance of Civilizations (UNAOC)
REFRESH-INTERVAL;VALUE=DURATION:PT1H
X-Robots-Tag:noindex
X-PUBLISHED-TTL:PT1H
BEGIN:VTIMEZONE
TZID:America/Halifax
BEGIN:DAYLIGHT
TZOFFSETFROM:-0400
TZOFFSETTO:-0300
TZNAME:ADT
DTSTART:20160313T060000
END:DAYLIGHT
BEGIN:STANDARD
TZOFFSETFROM:-0300
TZOFFSETTO:-0400
TZNAME:AST
DTSTART:20161106T050000
END:STANDARD
BEGIN:DAYLIGHT
TZOFFSETFROM:-0400
TZOFFSETTO:-0300
TZNAME:ADT
DTSTART:20170312T060000
END:DAYLIGHT
BEGIN:STANDARD
TZOFFSETFROM:-0300
TZOFFSETTO:-0400
TZNAME:AST
DTSTART:20171105T050000
END:STANDARD
BEGIN:DAYLIGHT
TZOFFSETFROM:-0400
TZOFFSETTO:-0300
TZNAME:ADT
DTSTART:20180311T060000
END:DAYLIGHT
BEGIN:STANDARD
TZOFFSETFROM:-0300
TZOFFSETTO:-0400
TZNAME:AST
DTSTART:20181104T050000
END:STANDARD
END:VTIMEZONE
BEGIN:VEVENT
DTSTART;VALUE=DATE:20171211
DTEND;VALUE=DATE:20171216
DTSTAMP:20260423T062306
CREATED:20171206T183913Z
LAST-MODIFIED:20171206T201155Z
UID:22731-1512950400-1513382399@www.unaoc.org
SUMMARY:Youth Solidarity Fund Workshop
DESCRIPTION:Youth Solidarity Fund (YSF) capacity building workshop for recipients of the 2017 edition will convene in Istanbul\, Turkey\, on 11-15 December.  \n\n \n\nRecipients will work with alumni and trainers\, as well as conduct youth dialogue exchanges with the Turkic Council network of young leaders and activists.
URL:https://www.unaoc.org/event/youth-solidarity-fund-workshop-istanbul/
CATEGORIES:UNAOC Events
END:VEVENT
BEGIN:VEVENT
DTSTART;VALUE=DATE:20171213
DTEND;VALUE=DATE:20171214
DTSTAMP:20260423T062306
CREATED:20171027T183511Z
LAST-MODIFIED:20171212T162146Z
UID:22475-1513123200-1513209599@www.unaoc.org
SUMMARY:5th UNAOC #SpreadNoHate Symposium in Cairo\, Egypt
DESCRIPTION:UNAOC Symposium:\n#SpreadNoHate: A Global Dialogue on Hate Speech Against Migrants and Refugees in the Media \nOrganized in partnership with Egypt Media Development Program (EMDP) \nWednesday 13 December 2017\nSofitel Cairo Nile El Gezirah\, Cairo\, Egypt \n\nWhat: \nThe United Nations Alliance of Civilizations (UNAOC) is organizing a symposium on the topic of hate speech against migrants and refugees in the media on 13 December 2017 in Cairo\, Egypt\, in collaboration with Egypt Media Development Program (EMDP).  \nOrganized in the framework of UNAOC’s #SpreadNoHate initiative\, this symposium meeting is the fifth of the series and will shed light on the various dimensions and experiences of migration within the Middle East and North Africa (MENA) region\, their media coverage\, and lessons learned by journalists from the region.  \n UNAOC invited a group of 80 carefully selected participants. Particular emphasis was placed on engaging journalists working in the MENA region. The #SpreadNoHate Symposium will also include migrants and refugees\, representatives of international organizations\, representatives of think-tanks\, the private sector\, academia\, and civil society.   \n\nWho: \n\nSoumia Alloui\, Journalist and News Anchor/Producer\, Algerian TV\nTarek Atia\, CEO and Founder\, Egypt Media Development Program (EMDP)\nFiras Al-Atraqchi\, Chair\, Department of Journalism and Mass Communication\, The American University in Cairo\nEzzat Ibrahim\, Editor-in-Chief\, Al-Ahram Weekly\nChaker Khazaal\, Author\, Journalist\nRaphael Minder\, Spain and Portugal Correspondent\, The New York Times \nLamia Radi\, Head of the Arabic Language Service\, Associated Press\nErrin Whack\, National Writer\, Race and Ethnicity\, Associated Press\nSami Zaptia\, Co-Founder and Managing Editor\, Libya Herald\n\n\nWhen: \nWednesday 13 December 2017\, from 09:30 to 18:45 \n\nWhere: \nSofitel Cairo Nile El Gezirah\n3 El Thawra Council St Zamalek Downtown Po Box 732 El Orman Giza\n11518 Cairo\, EGYPT \n\nTwitter:  \n@UNAOC; hashtag: #SpreadNoHate \n\nContact: \nMr. Thibault Chareton (UNAOC): thibaultc@unops.org; +1 (646) 306-8780\nMr. Ahmed Montasser (EMDP): ahmed@emdponline.com  \nRead moreHide text\n\n#SpreadNoHate Symposium Booklet \nDownload (PDF\, 4.08MB)
URL:https://www.unaoc.org/event/5th-unaoc-spreadnohate-symposium-in-cairo-egypt/
LOCATION:Cairo\, Egypt\, Cairo\, Egypt
CATEGORIES:UNAOC Events
END:VEVENT
END:VCALENDAR