BEGIN:VCALENDAR
VERSION:2.0
PRODID:-//United Nations Alliance of Civilizations (UNAOC) - ECPv6.15.20//NONSGML v1.0//EN
CALSCALE:GREGORIAN
METHOD:PUBLISH
X-ORIGINAL-URL:https://www.unaoc.org
X-WR-CALDESC:Events for United Nations Alliance of Civilizations (UNAOC)
REFRESH-INTERVAL;VALUE=DURATION:PT1H
X-Robots-Tag:noindex
X-PUBLISHED-TTL:PT1H
BEGIN:VTIMEZONE
TZID:America/Halifax
BEGIN:DAYLIGHT
TZOFFSETFROM:-0400
TZOFFSETTO:-0300
TZNAME:ADT
DTSTART:20160313T060000
END:DAYLIGHT
BEGIN:STANDARD
TZOFFSETFROM:-0300
TZOFFSETTO:-0400
TZNAME:AST
DTSTART:20161106T050000
END:STANDARD
BEGIN:DAYLIGHT
TZOFFSETFROM:-0400
TZOFFSETTO:-0300
TZNAME:ADT
DTSTART:20170312T060000
END:DAYLIGHT
BEGIN:STANDARD
TZOFFSETFROM:-0300
TZOFFSETTO:-0400
TZNAME:AST
DTSTART:20171105T050000
END:STANDARD
BEGIN:DAYLIGHT
TZOFFSETFROM:-0400
TZOFFSETTO:-0300
TZNAME:ADT
DTSTART:20180311T060000
END:DAYLIGHT
BEGIN:STANDARD
TZOFFSETFROM:-0300
TZOFFSETTO:-0400
TZNAME:AST
DTSTART:20181104T050000
END:STANDARD
END:VTIMEZONE
BEGIN:VEVENT
DTSTART;TZID=America/Halifax:20171129T130000
DTEND;TZID=America/Halifax:20171129T150000
DTSTAMP:20260423T062317
CREATED:20170915T165116Z
LAST-MODIFIED:20171116T153348Z
UID:22152-1511960400-1511967600@www.unaoc.org
SUMMARY:The Intercultural Innovation Award Ceremony
DESCRIPTION:Please join us for the Intercultural Innovation Award Ceremony\, a celebration of the most innovative grassroots projects that encourage intercultural dialogue around the world.  \nIf you would like to attend the Intercultural Innovation Award Ceremony on 29 November 2017\nat the United Nations headquarters in New York\, please submit an expression of interest here.
URL:https://www.unaoc.org/event/the-intercultural-innovation-award-ceremony/
LOCATION:UN Headquarters – Delegates Dining Room\, United Nations Headquarters\, New York\, NY\, 10017\, United States
CATEGORIES:UNAOC Events
END:VEVENT
END:VCALENDAR