BEGIN:VCALENDAR
VERSION:2.0
PRODID:-//United Nations Alliance of Civilizations (UNAOC) - ECPv6.15.20//NONSGML v1.0//EN
CALSCALE:GREGORIAN
METHOD:PUBLISH
X-WR-CALNAME:United Nations Alliance of Civilizations (UNAOC)
X-ORIGINAL-URL:https://www.unaoc.org
X-WR-CALDESC:Events for United Nations Alliance of Civilizations (UNAOC)
REFRESH-INTERVAL;VALUE=DURATION:PT1H
X-Robots-Tag:noindex
X-PUBLISHED-TTL:PT1H
BEGIN:VTIMEZONE
TZID:America/Halifax
BEGIN:DAYLIGHT
TZOFFSETFROM:-0400
TZOFFSETTO:-0300
TZNAME:ADT
DTSTART:20160313T060000
END:DAYLIGHT
BEGIN:STANDARD
TZOFFSETFROM:-0300
TZOFFSETTO:-0400
TZNAME:AST
DTSTART:20161106T050000
END:STANDARD
BEGIN:DAYLIGHT
TZOFFSETFROM:-0400
TZOFFSETTO:-0300
TZNAME:ADT
DTSTART:20170312T060000
END:DAYLIGHT
BEGIN:STANDARD
TZOFFSETFROM:-0300
TZOFFSETTO:-0400
TZNAME:AST
DTSTART:20171105T050000
END:STANDARD
BEGIN:DAYLIGHT
TZOFFSETFROM:-0400
TZOFFSETTO:-0300
TZNAME:ADT
DTSTART:20180311T060000
END:DAYLIGHT
BEGIN:STANDARD
TZOFFSETFROM:-0300
TZOFFSETTO:-0400
TZNAME:AST
DTSTART:20181104T050000
END:STANDARD
END:VTIMEZONE
BEGIN:VEVENT
DTSTART;TZID=America/Halifax:20171109T183000
DTEND;TZID=America/Halifax:20171109T210000
DTSTAMP:20260423T195933
CREATED:20170425T210058Z
LAST-MODIFIED:20171107T173219Z
UID:21008-1510252200-1510261200@www.unaoc.org
SUMMARY:PLURAL+ Youth Video Festival and Awards Ceremony
DESCRIPTION:PLURAL+ 2017 will celebrate 27 award-winning videos of the 320 entries received from all around the world. PLURAL+ supports the outreach of youth-produced videos addressing the topics of migration\, diversity\, social inclusion and the prevention of xenophobia. Click here for more information. \n\n\nJoin us on November 9th\, UN Headquarters Conference Room 4\,\nfor the screening of PLURAL+ 2017 Award-winning Videos! \n \n\nDownload (PDF\, 3.1MB)
URL:https://www.unaoc.org/event/plural-youth-video-festival-and-awards-ceremony/
LOCATION:United Nations Headquarters\, Conference Room 4\, United Nations Headquarters\, New York\, NY\, 10\, United States
CATEGORIES:UNAOC Events
END:VEVENT
END:VCALENDAR