BEGIN:VCALENDAR
VERSION:2.0
PRODID:-//United Nations Alliance of Civilizations (UNAOC) - ECPv5.14.2.1//NONSGML v1.0//EN
CALSCALE:GREGORIAN
METHOD:PUBLISH
X-WR-CALNAME:United Nations Alliance of Civilizations (UNAOC)
X-ORIGINAL-URL:https://www.unaoc.org
X-WR-CALDESC:Events for United Nations Alliance of Civilizations (UNAOC)
BEGIN:VTIMEZONE
TZID:America/Halifax
BEGIN:DAYLIGHT
TZOFFSETFROM:-0400
TZOFFSETTO:-0300
TZNAME:ADT
DTSTART:20180311T060000
END:DAYLIGHT
BEGIN:STANDARD
TZOFFSETFROM:-0300
TZOFFSETTO:-0400
TZNAME:AST
DTSTART:20181104T050000
END:STANDARD
END:VTIMEZONE
BEGIN:VEVENT
DTSTART;VALUE=DATE:20180827
DTEND;VALUE=DATE:20180903
DTSTAMP:20221113T105204
CREATED:20180802T193249Z
LAST-MODIFIED:20180802T193447Z
UID:24531-1535328000-1535932799@www.unaoc.org
SUMMARY:Youth Solidarity Fund Capacity Building Workshop
DESCRIPTION:The Youth Solidarity Fund (YSF) supports youth-led organizations that foster peaceful and inclusive societies by providing seed funding to innovative and effective projects promoting intercultural and interfaith dialogue. YSF recipients of the 2018 edition will be engaging in a capacity building workshop to be held in Nairobi\, Kenya. Participants will receive training on topics including project management\, monitoring and evaluation\, fundraising\, communications and advocacy. \n\n For more information about YSF\, please visit unaoc.org/youth-solidarity-fund\nShare thisClick to share on Twitter (Opens in new window)Click to share on Facebook (Opens in new window)Click to share on LinkedIn (Opens in new window)Click to share on Pinterest (Opens in new window)Click to share on Skype (Opens in new window)Click to share on WhatsApp (Opens in new window)Click to email a link to a friend (Opens in new window)MoreClick to share on Reddit (Opens in new window)Click to share on Tumblr (Opens in new window)Click to print (Opens in new window)Click to share on Pocket (Opens in new window)Click to share on Telegram (Opens in new window)
URL:https://www.unaoc.org/event/youth-solidarity-fund-capacity-building-workshop/
CATEGORIES:UNAOC Events
END:VEVENT
END:VCALENDAR