BEGIN:VCALENDAR
VERSION:2.0
PRODID:-//United Nations Alliance of Civilizations (UNAOC) - ECPv5.14.2.1//NONSGML v1.0//EN
CALSCALE:GREGORIAN
METHOD:PUBLISH
X-WR-CALNAME:United Nations Alliance of Civilizations (UNAOC)
X-ORIGINAL-URL:https://www.unaoc.org
X-WR-CALDESC:Events for United Nations Alliance of Civilizations (UNAOC)
BEGIN:VTIMEZONE
TZID:America/Halifax
BEGIN:DAYLIGHT
TZOFFSETFROM:-0400
TZOFFSETTO:-0300
TZNAME:ADT
DTSTART:20170312T060000
END:DAYLIGHT
BEGIN:STANDARD
TZOFFSETFROM:-0300
TZOFFSETTO:-0400
TZNAME:AST
DTSTART:20171105T050000
END:STANDARD
END:VTIMEZONE
BEGIN:VEVENT
DTSTART;VALUE=DATE:20170113
DTEND;VALUE=DATE:20170206
DTSTAMP:20221113T145329
CREATED:20170113T213051Z
LAST-MODIFIED:20170113T214819Z
UID:19712-1484265600-1486339199@www.unaoc.org
SUMMARY:Youth Solidarity Fund: Call for applications
DESCRIPTION:Eligibility: Youth-led organizations (18-35 years old) from select countries	\nGrant Details: Up to USD 25\,000 to implement intercultural and interfaith dialogue projects \nProject Duration: 7 months \nApplication deadline: 5th February\, 2017 \n\n\nFor complete details on how to apply\, eligibility and selection criteria\, consult the Application Guidelines. \nApply for the Youth Solidarity Fund Now \nShare thisClick to share on Twitter (Opens in new window)Click to share on Facebook (Opens in new window)Click to share on LinkedIn (Opens in new window)Click to share on Pinterest (Opens in new window)Click to share on Skype (Opens in new window)Click to share on WhatsApp (Opens in new window)Click to email a link to a friend (Opens in new window)MoreClick to share on Reddit (Opens in new window)Click to share on Tumblr (Opens in new window)Click to print (Opens in new window)Click to share on Pocket (Opens in new window)Click to share on Telegram (Opens in new window)
URL:https://www.unaoc.org/event/youth-solidarity-fund-call-for-applications/
LOCATION:Global
CATEGORIES:Calls For Applications
END:VEVENT
END:VCALENDAR