BEGIN:VCALENDAR
VERSION:2.0
PRODID:-//United Nations Alliance of Civilizations (UNAOC) - ECPv5.14.2.1//NONSGML v1.0//EN
CALSCALE:GREGORIAN
METHOD:PUBLISH
X-WR-CALNAME:United Nations Alliance of Civilizations (UNAOC)
X-ORIGINAL-URL:https://www.unaoc.org
X-WR-CALDESC:Events for United Nations Alliance of Civilizations (UNAOC)
BEGIN:VTIMEZONE
TZID:America/Halifax
BEGIN:DAYLIGHT
TZOFFSETFROM:-0400
TZOFFSETTO:-0300
TZNAME:ADT
DTSTART:20190310T060000
END:DAYLIGHT
BEGIN:STANDARD
TZOFFSETFROM:-0300
TZOFFSETTO:-0400
TZNAME:AST
DTSTART:20191103T050000
END:STANDARD
END:VTIMEZONE
BEGIN:VEVENT
DTSTART;TZID=America/Halifax:20191018T130000
DTEND;TZID=America/Halifax:20191018T150000
DTSTAMP:20221113T111118
CREATED:20191008T212843Z
LAST-MODIFIED:20191016T142832Z
UID:26452-1571403600-1571410800@www.unaoc.org
SUMMARY:Youth Migration Film Forum
DESCRIPTION:Hear youth voices and join their call to action for the human rights of migrants around the world!  \nJoin the PLURAL+ Youth Video Festival (a partnership between the United Nations Alliance of Civilizations and the International Organization for Migration)\, the World Council of Peoples for the United Nations (WCPUN)\, INDOCUMENTALES\, the Permanent Mission of Mexico to the United Nations\, and the Consulate General of Mexico in New York to celebrate the work of youth filmmakers and discuss the power of storytelling. \nThe event will feature three youth-produced short films\, including past winners of the PLURAL+ Youth Video Festival. \nRegistration is required for anyone without a United Nations Grounds Pass. \nRSVP by 15 October 2019: Click here to RSVP. \nFor more information\, please contact: rportila@mexonu.org. \n\n\n\n\nShare thisClick to share on Twitter (Opens in new window)Click to share on Facebook (Opens in new window)Click to share on LinkedIn (Opens in new window)Click to share on Pinterest (Opens in new window)Click to share on Skype (Opens in new window)Click to share on WhatsApp (Opens in new window)Click to email a link to a friend (Opens in new window)MoreClick to share on Reddit (Opens in new window)Click to share on Tumblr (Opens in new window)Click to print (Opens in new window)Click to share on Pocket (Opens in new window)Click to share on Telegram (Opens in new window)
URL:https://www.unaoc.org/event/youth-migration-film-forum/
LOCATION:UNHQ ECOSOC Chamber\, United Nations Headquarters\, New York\, NY\, 10017\, United States
CATEGORIES:UNAOC Events
END:VEVENT
END:VCALENDAR