BEGIN:VCALENDAR
VERSION:2.0
PRODID:-//United Nations Alliance of Civilizations (UNAOC) - ECPv5.14.2.1//NONSGML v1.0//EN
CALSCALE:GREGORIAN
METHOD:PUBLISH
X-WR-CALNAME:United Nations Alliance of Civilizations (UNAOC)
X-ORIGINAL-URL:https://www.unaoc.org
X-WR-CALDESC:Events for United Nations Alliance of Civilizations (UNAOC)
BEGIN:VTIMEZONE
TZID:America/Halifax
BEGIN:DAYLIGHT
TZOFFSETFROM:-0400
TZOFFSETTO:-0300
TZNAME:ADT
DTSTART:20160313T060000
END:DAYLIGHT
BEGIN:STANDARD
TZOFFSETFROM:-0300
TZOFFSETTO:-0400
TZNAME:AST
DTSTART:20161106T050000
END:STANDARD
END:VTIMEZONE
BEGIN:VEVENT
DTSTART;TZID=America/Halifax:20160602T130000
DTEND;TZID=America/Halifax:20160602T140000
DTSTAMP:20221113T152251
CREATED:20160531T211654Z
LAST-MODIFIED:20160601T145443Z
UID:17477-1464872400-1464876000@www.unaoc.org
SUMMARY:Youth Action Series Brownbag Discussion: “Community Mobilization on Women’s Safety in India through ICT”
DESCRIPTION:United Nations Inter-Agency Network on Youth Development’s Working Group on Youth and Gender Equality & United Nations Alliance of Civilizations (UNAOC)\nYouth Action Series Brownbag Discussion with Elsa DSilva\nIntercultural Innovation Award Recipient and Founder of Red Dot Foundation – Safecity \n  \n\non \n“Community Mobilization on Women’s Safety in India through ICT”\nWhen: June 2\, 2016\, 1pm-2pm EST\nWhere: UN Women Headquarters\, 220 East 42nd Street\, New York\, NY Room 19-20 \nRSVP to youth@unwomen.org \n@UNWomen4youth  | @unaoc | @iiaward | @pinthecreep | #UNAOCyouth | #LEAPsInGenderEquality \nShare thisClick to share on Twitter (Opens in new window)Click to share on Facebook (Opens in new window)Click to share on LinkedIn (Opens in new window)Click to share on Pinterest (Opens in new window)Click to share on Skype (Opens in new window)Click to share on WhatsApp (Opens in new window)Click to email a link to a friend (Opens in new window)MoreClick to share on Reddit (Opens in new window)Click to share on Tumblr (Opens in new window)Click to print (Opens in new window)Click to share on Pocket (Opens in new window)Click to share on Telegram (Opens in new window)
URL:https://www.unaoc.org/event/youth-action-series-brownbag-discussion-community-mobilization-on-women-safety-through-ict/
LOCATION:UN Women Headquarters\, Room 19-20\, 220 East 42nd Street\, New York\, United States
CATEGORIES:UNAOC Events
END:VEVENT
END:VCALENDAR