BEGIN:VCALENDAR
VERSION:2.0
PRODID:-//United Nations Alliance of Civilizations (UNAOC) - ECPv5.14.2.1//NONSGML v1.0//EN
CALSCALE:GREGORIAN
METHOD:PUBLISH
X-WR-CALNAME:United Nations Alliance of Civilizations (UNAOC)
X-ORIGINAL-URL:https://www.unaoc.org
X-WR-CALDESC:Events for United Nations Alliance of Civilizations (UNAOC)
BEGIN:VTIMEZONE
TZID:America/Halifax
BEGIN:DAYLIGHT
TZOFFSETFROM:-0400
TZOFFSETTO:-0300
TZNAME:ADT
DTSTART:20210314T060000
END:DAYLIGHT
BEGIN:STANDARD
TZOFFSETFROM:-0300
TZOFFSETTO:-0400
TZNAME:AST
DTSTART:20211107T050000
END:STANDARD
END:VTIMEZONE
BEGIN:VEVENT
DTSTART;TZID=America/Halifax:20211006T000000
DTEND;TZID=America/Halifax:20211006T050000
DTSTAMP:20221113T133629
CREATED:20211004T142746Z
LAST-MODIFIED:20211004T142753Z
UID:30540-1633478400-1633496400@www.unaoc.org
SUMMARY:XIX Session of the Secretariat of the Congress of Leaders of World and Traditional Religions
DESCRIPTION:UNAOC is participating in the XIX Session of the Secretariat of the Congress of Leaders of World and Traditional Religions\, a unique interfaith forum\, held every three years. Representatives of foreign religious leaders and heads of international centers are expected to attend. \nAbout the Secretariat: The Secretariat of the Congress of Leaders of World and Traditional Religions is the operational body of the Congress\, which ensures activities in the intervals between its sessions. Founded according to the decision of the participants of the First Congress of Leaders of World and Traditional Religions\, held on September 23-24\, 2003 in Astana. The Secretariat includes plenipotentiary representatives of leaders of world and traditional religions from Islam\, Christianity (Orthodoxy\, Catholicism\, Lutheranism)\, Buddhism\, Judaism\, Hinduism\, Zoroastrianism\, Taoism\, Shintoism. \nClick here to learn more: http://religions-congress.org/ \nShare thisClick to share on Twitter (Opens in new window)Click to share on Facebook (Opens in new window)Click to share on LinkedIn (Opens in new window)Click to share on Pinterest (Opens in new window)Click to share on Skype (Opens in new window)Click to share on WhatsApp (Opens in new window)Click to email a link to a friend (Opens in new window)MoreClick to share on Reddit (Opens in new window)Click to share on Tumblr (Opens in new window)Click to print (Opens in new window)Click to share on Pocket (Opens in new window)Click to share on Telegram (Opens in new window)
URL:https://www.unaoc.org/event/xix-session-of-the-secretariat-of-the-congress-of-leaders-of-world-and-traditional-religions/
LOCATION:Nur-Sultan\, Kazakhstan\, Nur-Sultan\, Kazakhstan
CATEGORIES:International Conference
END:VEVENT
END:VCALENDAR