BEGIN:VCALENDAR
VERSION:2.0
PRODID:-//United Nations Alliance of Civilizations (UNAOC) - ECPv5.14.2.1//NONSGML v1.0//EN
CALSCALE:GREGORIAN
METHOD:PUBLISH
X-WR-CALNAME:United Nations Alliance of Civilizations (UNAOC)
X-ORIGINAL-URL:https://www.unaoc.org
X-WR-CALDESC:Events for United Nations Alliance of Civilizations (UNAOC)
BEGIN:VTIMEZONE
TZID:America/Halifax
BEGIN:DAYLIGHT
TZOFFSETFROM:-0400
TZOFFSETTO:-0300
TZNAME:ADT
DTSTART:20170312T060000
END:DAYLIGHT
BEGIN:STANDARD
TZOFFSETFROM:-0300
TZOFFSETTO:-0400
TZNAME:AST
DTSTART:20171105T050000
END:STANDARD
END:VTIMEZONE
BEGIN:VEVENT
DTSTART;TZID=America/Halifax:20170522T150000
DTEND;TZID=America/Halifax:20170522T180000
DTSTAMP:20221113T111550
CREATED:20170517T152856Z
LAST-MODIFIED:20170519T200422Z
UID:21125-1495465200-1495476000@www.unaoc.org
SUMMARY:World Day for Cultural Diversity for Dialogue and Development
DESCRIPTION:The Permanent Mission of Jamaica to the United Nations and the Permanent Mission of Ethiopia to the United Nations\,  in partnership with The Give Them a Hand Foundation\,  the International Association of Applied Psychology and the United African Congress \ncordially invite you to attend a conference held in observance of \n\nWorld Day for Cultural Diversity for Dialogue and Development \n Monday\, 22 May 2017\, 3:00PM-6:00PM\n  United Nation Headquarters\, New York City\, Conference Room 4 \n\nThis event is an opportunity to deepen the understanding of the value of cultural diversity and to advance the goals of the UNESCO Convention on the Protection and Promotion of the Diversity of Cultural Expressions. Also\, this year being the International Year of Sustainable Tourism\, both observances intersect\, in the conference theme\, “Local Culture as a Driver for Economic Growth.” Programme for the Cultural Diversity Conference “Local Culture as a Driver for Economic Growth”. \n\nDownload (PDF\, 999KB) \n\nShare thisClick to share on Twitter (Opens in new window)Click to share on Facebook (Opens in new window)Click to share on LinkedIn (Opens in new window)Click to share on Pinterest (Opens in new window)Click to share on Skype (Opens in new window)Click to share on WhatsApp (Opens in new window)Click to email a link to a friend (Opens in new window)MoreClick to share on Reddit (Opens in new window)Click to share on Tumblr (Opens in new window)Click to print (Opens in new window)Click to share on Pocket (Opens in new window)Click to share on Telegram (Opens in new window)
URL:https://www.unaoc.org/event/world-day-for-cultural-diversity-for-dialogue-and-development/
LOCATION:United Nations Headquarters\, Conference Room 4\, United Nations Headquarters\, New York\, NY\, 10\, United States
CATEGORIES:UNAOC Events
END:VEVENT
END:VCALENDAR