BEGIN:VCALENDAR
VERSION:2.0
PRODID:-//United Nations Alliance of Civilizations (UNAOC) - ECPv5.14.2.1//NONSGML v1.0//EN
CALSCALE:GREGORIAN
METHOD:PUBLISH
X-WR-CALNAME:United Nations Alliance of Civilizations (UNAOC)
X-ORIGINAL-URL:https://www.unaoc.org
X-WR-CALDESC:Events for United Nations Alliance of Civilizations (UNAOC)
BEGIN:VTIMEZONE
TZID:America/Halifax
BEGIN:DAYLIGHT
TZOFFSETFROM:-0400
TZOFFSETTO:-0300
TZNAME:ADT
DTSTART:20140309T060000
END:DAYLIGHT
BEGIN:STANDARD
TZOFFSETFROM:-0300
TZOFFSETTO:-0400
TZNAME:AST
DTSTART:20141102T050000
END:STANDARD
END:VTIMEZONE
BEGIN:VEVENT
DTSTART;TZID=America/Halifax:20141031T093000
DTEND;TZID=America/Halifax:20141031T123000
DTSTAMP:20221113T162806
CREATED:20141029T171155Z
LAST-MODIFIED:20141031T004141Z
UID:12972-1414747800-1414758600@www.unaoc.org
SUMMARY:World Cities Day 2014 : Leading Urban Transformations
DESCRIPTION:What : On the occasion of World Cities Day\, the United Nations Alliance of Civilizations\, The Permanent Mission of Italy\, the Permanent Mission of the People’s Republic of China and the United Nations Human Settlements Programme (UN-Habitat) are organizing an interactive discussion between international organizations\, governments\, mayors and civil society representatives on the need to pursue people-centered urbanization and manage social inclusion and diversity in today’s cities. The event aims at sharing ideas on how to enhance inclusive and sustainable urbanization and how to empower migrants for effective integration in cities. \nWho : Opening remarks by Mrs. Maria Emma Meja Velez\, VP of ECOSOC \, President of the General Assembly Sam Kutesa\, the United Nations Secretary-General Ban Ki-moon (tbc)\, The UN High-Representative for the Alliance of Civilizations Nassir Abdulaziz Al-Nasser\, Ambassador Sebastiano Cardi\, The PR of Italy \, Ambassador Liu Jieyi\, the PR of China. A panel of experts will lead the discussions after the opening segment. \nWhen : Friday\, 31 October\, 2014 (9:30 am – 12:30 pm) \nWhere : ECOSOC Chamber\, United Nations Headquarters\, New York \nEvent is open to the media. See attached Programme and concept note. \nFor more information\, contact Ms. Francesca De Ferrari (deferrari@un.org) and go to http://unhabitat.org/wcd/ \nShare thisClick to share on Twitter (Opens in new window)Click to share on Facebook (Opens in new window)Click to share on LinkedIn (Opens in new window)Click to share on Pinterest (Opens in new window)Click to share on Skype (Opens in new window)Click to share on WhatsApp (Opens in new window)Click to email a link to a friend (Opens in new window)MoreClick to share on Reddit (Opens in new window)Click to share on Tumblr (Opens in new window)Click to print (Opens in new window)Click to share on Pocket (Opens in new window)Click to share on Telegram (Opens in new window)
URL:https://www.unaoc.org/event/world-cities-day-2014-leading-urban-transformations/
LOCATION:UNHQ ECOSOC Chamber\, United Nations Headquarters\, New York\, NY\, 10017\, United States
END:VEVENT
END:VCALENDAR