BEGIN:VCALENDAR
VERSION:2.0
PRODID:-//United Nations Alliance of Civilizations (UNAOC) - ECPv5.14.2.1//NONSGML v1.0//EN
CALSCALE:GREGORIAN
METHOD:PUBLISH
X-WR-CALNAME:United Nations Alliance of Civilizations (UNAOC)
X-ORIGINAL-URL:https://www.unaoc.org
X-WR-CALDESC:Events for United Nations Alliance of Civilizations (UNAOC)
BEGIN:VTIMEZONE
TZID:America/Halifax
BEGIN:DAYLIGHT
TZOFFSETFROM:-0400
TZOFFSETTO:-0300
TZNAME:ADT
DTSTART:20200308T060000
END:DAYLIGHT
BEGIN:STANDARD
TZOFFSETFROM:-0300
TZOFFSETTO:-0400
TZNAME:AST
DTSTART:20201101T050000
END:STANDARD
END:VTIMEZONE
BEGIN:VEVENT
DTSTART;TZID=America/Halifax:20200620T123000
DTEND;TZID=America/Halifax:20200620T133000
DTSTAMP:20221113T111804
CREATED:20200619T142252Z
LAST-MODIFIED:20200619T142252Z
UID:27925-1592656200-1592659800@www.unaoc.org
SUMMARY:Virtual Refugee Conference
DESCRIPTION:The United Nations Alliance of Civilizations (UNAOC) is organizing an interactive discussion with refugee students on the issue of hate speech against migrants and refugees in traditional and new media and ways to combat it. This event is part of the interactive online conference “Amplify Now”\, organized by Kiron – Open Higher Education for Refugees\, which is bringing together refugees\, non-governmental organizations\, academics\, and the private sector in a unique global gathering to foster collaborative and results-oriented exchanges around the theme\, “Elevating new learning and strengthening communities”.  \nThe UNAOC session will introduce participants to UNAOC’s #SpreadNoHate initiative and include small-group discussions allowing participants to benefit from one another’s experiences and perspectives and leave the session with new ideas on ways to combat hate speech. Alumni of the UNAOC Fellowship programme and current UNAOC Fellows will facilitate the small-group discussions with refugee students.  \nFor more information and to register\, visit https://virtualrefugeeconference.com/program/spread-no-hate-UNAOC \n \nShare thisClick to share on Twitter (Opens in new window)Click to share on Facebook (Opens in new window)Click to share on LinkedIn (Opens in new window)Click to share on Pinterest (Opens in new window)Click to share on Skype (Opens in new window)Click to share on WhatsApp (Opens in new window)Click to email a link to a friend (Opens in new window)MoreClick to share on Reddit (Opens in new window)Click to share on Tumblr (Opens in new window)Click to print (Opens in new window)Click to share on Pocket (Opens in new window)Click to share on Telegram (Opens in new window)
URL:https://www.unaoc.org/event/virtual-refugee-conference/
LOCATION:Virtual
CATEGORIES:UNAOC Events
END:VEVENT
END:VCALENDAR