BEGIN:VCALENDAR
VERSION:2.0
PRODID:-//United Nations Alliance of Civilizations (UNAOC) - ECPv5.14.2.1//NONSGML v1.0//EN
CALSCALE:GREGORIAN
METHOD:PUBLISH
X-WR-CALNAME:United Nations Alliance of Civilizations (UNAOC)
X-ORIGINAL-URL:https://www.unaoc.org
X-WR-CALDESC:Events for United Nations Alliance of Civilizations (UNAOC)
BEGIN:VTIMEZONE
TZID:America/Halifax
BEGIN:DAYLIGHT
TZOFFSETFROM:-0400
TZOFFSETTO:-0300
TZNAME:ADT
DTSTART:20170312T060000
END:DAYLIGHT
BEGIN:STANDARD
TZOFFSETFROM:-0300
TZOFFSETTO:-0400
TZNAME:AST
DTSTART:20171105T050000
END:STANDARD
END:VTIMEZONE
BEGIN:VEVENT
DTSTART;VALUE=DATE:20170124
DTEND;VALUE=DATE:20170208
DTSTAMP:20221113T154601
CREATED:20170130T212229Z
LAST-MODIFIED:20170130T214826Z
UID:19860-1485216000-1486511999@www.unaoc.org
SUMMARY:Vacancy Notice: Personal Assistant to the High Representative
DESCRIPTION:The United Nations Alliance of Civilizations (UNAOC) is seeking a qualified Personal Assistant to The High Representative to be based in its New York Office. \nVacancy code: VA/2017/B5004/11620\nPosition title: Personal Assistant to The High Representative\nDuty station: New York\, United States of America\nContract type: Local ICA Support\nContract level: LICA-5\nDuration: 4 months with possibility of extension\nApplication period: 24-Jan-2017 to 07-Feb-2017 \nMore details about the position can be found here: https://jobs.unops.org/Pages/ViewVacancy/VADetails.aspx?id=11620 \nShare thisClick to share on Twitter (Opens in new window)Click to share on Facebook (Opens in new window)Click to share on LinkedIn (Opens in new window)Click to share on Pinterest (Opens in new window)Click to share on Skype (Opens in new window)Click to share on WhatsApp (Opens in new window)Click to email a link to a friend (Opens in new window)MoreClick to share on Reddit (Opens in new window)Click to share on Tumblr (Opens in new window)Click to print (Opens in new window)Click to share on Pocket (Opens in new window)Click to share on Telegram (Opens in new window)
URL:https://www.unaoc.org/event/vacancy-notice-personal-assistant-to-the-high-representative/
CATEGORIES:Calls For Applications,Vacancy Announcements
END:VEVENT
END:VCALENDAR