BEGIN:VCALENDAR
VERSION:2.0
PRODID:-//United Nations Alliance of Civilizations (UNAOC) - ECPv5.14.2.1//NONSGML v1.0//EN
CALSCALE:GREGORIAN
METHOD:PUBLISH
X-WR-CALNAME:United Nations Alliance of Civilizations (UNAOC)
X-ORIGINAL-URL:https://www.unaoc.org
X-WR-CALDESC:Events for United Nations Alliance of Civilizations (UNAOC)
BEGIN:VTIMEZONE
TZID:America/Halifax
BEGIN:DAYLIGHT
TZOFFSETFROM:-0400
TZOFFSETTO:-0300
TZNAME:ADT
DTSTART:20160313T060000
END:DAYLIGHT
BEGIN:STANDARD
TZOFFSETFROM:-0300
TZOFFSETTO:-0400
TZNAME:AST
DTSTART:20161106T050000
END:STANDARD
END:VTIMEZONE
BEGIN:VEVENT
DTSTART;VALUE=DATE:20160216
DTEND;VALUE=DATE:20160228
DTSTAMP:20221113T153656
CREATED:20160217T153532Z
LAST-MODIFIED:20160217T153633Z
UID:17221-1455580800-1456617599@www.unaoc.org
SUMMARY:Vacancy Announcement: Intern for Media Literacy Programme
DESCRIPTION:Vacancy code: VA/2016/B5004/9560\nPosition title: Intern for Media Literacy Programme\nDepartment/office: ECR\, Development Group Cluster\nDuty station: New York\, NY\, United States of America\nContract type: Intern\nContract level: Intern\nDuration: 3-6 months\nApplication period: 16-Feb-2016 to 27-Feb-2016 \nClick here to view the full vacancy announcement. \n\nUNAOC’s Media and Information Literacy (MIL) initiatives include\, among other projects\, a MIL clearinghouse\, a MIL teacher training webpage\, PLURAL+\, PEACEapp\, as well as related publications such as PLURAL+ Educational Discussion Guides\, MIL UNESCO-UNAOC annual publication\, MIL in the MENA region\, etc. \nThe intern will work under the direct\, overall supervision of the UNAOC Media and Information Literacy (MIL) Education Project Manager. Specific intern responsibilities include\, but are not limited to: \nPLURAL +\, and PEACEapp \n\nAssist with the launching of PLURAL+ 2016\, a youth video festival focusing on the themes of migration\, diversity and social inclusion\nAssist with the distribution of PLURAL+ 2015 Program\nAssist with updates of PLURAL+ website\nAssist in the distribution of PLURAL+ Educational Guides\nCommunicate with PLURAL + partners and participants\n\nMedia and Information Literacy (MIL) Education \n\nSupport\, review and coordinate uploading of new content on MIL Clearinghouse\nSupport communication with related initiatives and partners\nAssist with MIL relevant conferences and meetings\nAssist with communication with partners of the UNESCO UNITWIN UNAOC University Network on Media and Information Literacy and Intercultural Dialogue (UAC-MILID)\nAssist with logistical details of UAC-MILID’s activities (conferences\, publications\, etc.)\nAssist with the outreach of PEACEapp\, an initiative focusing on apps/games as venues for intercultural dialogue and conflict prevention\nCommunicate with PEACEapp partners and participants\nAssist with updates of PEACEapp website\n\nClick here to view the full vacancy announcement. \nShare thisClick to share on Twitter (Opens in new window)Click to share on Facebook (Opens in new window)Click to share on LinkedIn (Opens in new window)Click to share on Pinterest (Opens in new window)Click to share on Skype (Opens in new window)Click to share on WhatsApp (Opens in new window)Click to email a link to a friend (Opens in new window)MoreClick to share on Reddit (Opens in new window)Click to share on Tumblr (Opens in new window)Click to print (Opens in new window)Click to share on Pocket (Opens in new window)Click to share on Telegram (Opens in new window)
URL:https://www.unaoc.org/event/vacancy-announcement-media-literacy-programme-intern/
CATEGORIES:Calls For Applications
END:VEVENT
END:VCALENDAR