BEGIN:VCALENDAR
VERSION:2.0
PRODID:-//United Nations Alliance of Civilizations (UNAOC) - ECPv5.14.2.1//NONSGML v1.0//EN
CALSCALE:GREGORIAN
METHOD:PUBLISH
X-WR-CALNAME:United Nations Alliance of Civilizations (UNAOC)
X-ORIGINAL-URL:https://www.unaoc.org
X-WR-CALDESC:Events for United Nations Alliance of Civilizations (UNAOC)
BEGIN:VTIMEZONE
TZID:America/Halifax
BEGIN:DAYLIGHT
TZOFFSETFROM:-0400
TZOFFSETTO:-0300
TZNAME:ADT
DTSTART:20200308T060000
END:DAYLIGHT
BEGIN:STANDARD
TZOFFSETFROM:-0300
TZOFFSETTO:-0400
TZNAME:AST
DTSTART:20201101T050000
END:STANDARD
END:VTIMEZONE
BEGIN:VEVENT
DTSTART;TZID=America/Halifax:20201028T090000
DTEND;TZID=America/Halifax:20201028T110000
DTSTAMP:20221113T143737
CREATED:20201026T180134Z
LAST-MODIFIED:20201026T180412Z
UID:28706-1603875600-1603882800@www.unaoc.org
SUMMARY:United Nations Roundtable of Media and Information Literacy Global Media and Information Literacy Week 2020
DESCRIPTION:Resisting Disinfodemic: Media and Information Literacy for Everybody and by Everybody \nMs. Nihal Saad\, Chief of Cabinet and Spokesperson for the United Nations Alliance of Civilizations (UNAOC)\, will participate at the UN Roundtable of Media and Information Literacy Global Media and Information Literacy Week 2020\, with the theme “Resisting Disinfodemic: Media and Information Literacy for Everybody and by Everybody”.\n \n \n\nAs disinformation has become a cross-cutting problem for the different goals of the 2030 Sustainable Development agenda\, so too different UN agencies may find shared interests in the role of Media and Information Literacy (MIL) as part of the responses. This document outlines some ways in which MIL is relevant to the mandates of different members of the UN family\, and possible points of co-operation. This novel first round of discussions may lay the ground for continued dialogues and practical steps forward. \nLearn More  \nShare thisClick to share on Twitter (Opens in new window)Click to share on Facebook (Opens in new window)Click to share on LinkedIn (Opens in new window)Click to share on Pinterest (Opens in new window)Click to share on Skype (Opens in new window)Click to share on WhatsApp (Opens in new window)Click to email a link to a friend (Opens in new window)MoreClick to share on Reddit (Opens in new window)Click to share on Tumblr (Opens in new window)Click to print (Opens in new window)Click to share on Pocket (Opens in new window)Click to share on Telegram (Opens in new window)
URL:https://www.unaoc.org/event/united-nations-roundtable-of-media-and-information-literacy-global-media-and-information-literacy-week-2020/
CATEGORIES:International Conference
END:VEVENT
END:VCALENDAR