BEGIN:VCALENDAR
VERSION:2.0
PRODID:-//United Nations Alliance of Civilizations (UNAOC) - ECPv5.14.2.1//NONSGML v1.0//EN
CALSCALE:GREGORIAN
METHOD:PUBLISH
X-WR-CALNAME:United Nations Alliance of Civilizations (UNAOC)
X-ORIGINAL-URL:https://www.unaoc.org
X-WR-CALDESC:Events for United Nations Alliance of Civilizations (UNAOC)
BEGIN:VTIMEZONE
TZID:America/Halifax
BEGIN:DAYLIGHT
TZOFFSETFROM:-0400
TZOFFSETTO:-0300
TZNAME:ADT
DTSTART:20190310T060000
END:DAYLIGHT
BEGIN:STANDARD
TZOFFSETFROM:-0300
TZOFFSETTO:-0400
TZNAME:AST
DTSTART:20191103T050000
END:STANDARD
END:VTIMEZONE
BEGIN:VEVENT
DTSTART;TZID=America/Halifax:20190926T140000
DTEND;TZID=America/Halifax:20190926T170000
DTSTAMP:20221113T111142
CREATED:20190917T214331Z
LAST-MODIFIED:20190919T202243Z
UID:26350-1569506400-1569517200@www.unaoc.org
SUMMARY:UNAOC: Reviving the Global Dimension (A High-Level Round Table Luncheon)
DESCRIPTION:“UNAOC: Reviving the Global Dimension”\, a high-level round table luncheon\, is a launch event for a series of consultations with key UNAOC stakeholders and partners\, to promote the values and mandate of UNAOC globally\, across all regions and continents. \nThis new series is launched in line with the High Representative for UNAOC Mr. Miguel Moratinos’ vision to reinvigorate the regional and national strategies of UNAOC\, adopted in the past by groups of countries\, as well as to provide impetus to the development of new national and regional initiatives\, taking into consideration the latest global challenges and trends.  \n\n\n\n\n\n\n\nDownload (PDF\, 174KB) \n\nShare thisClick to share on Twitter (Opens in new window)Click to share on Facebook (Opens in new window)Click to share on LinkedIn (Opens in new window)Click to share on Pinterest (Opens in new window)Click to share on Skype (Opens in new window)Click to share on WhatsApp (Opens in new window)Click to email a link to a friend (Opens in new window)MoreClick to share on Reddit (Opens in new window)Click to share on Tumblr (Opens in new window)Click to print (Opens in new window)Click to share on Pocket (Opens in new window)Click to share on Telegram (Opens in new window)
URL:https://www.unaoc.org/event/unaoc-reviving-the-global-dimension/
LOCATION:The Yale Club of New York\, 50 Vanderbilt Avenue\, New York\, NY\, United States
CATEGORIES:UNAOC Events
END:VEVENT
END:VCALENDAR