BEGIN:VCALENDAR
VERSION:2.0
PRODID:-//United Nations Alliance of Civilizations (UNAOC) - ECPv5.14.2.1//NONSGML v1.0//EN
CALSCALE:GREGORIAN
METHOD:PUBLISH
X-WR-CALNAME:United Nations Alliance of Civilizations (UNAOC)
X-ORIGINAL-URL:https://www.unaoc.org
X-WR-CALDESC:Events for United Nations Alliance of Civilizations (UNAOC)
BEGIN:VTIMEZONE
TZID:America/Halifax
BEGIN:DAYLIGHT
TZOFFSETFROM:-0400
TZOFFSETTO:-0300
TZNAME:ADT
DTSTART:20160313T060000
END:DAYLIGHT
BEGIN:STANDARD
TZOFFSETFROM:-0300
TZOFFSETTO:-0400
TZNAME:AST
DTSTART:20161106T050000
END:STANDARD
END:VTIMEZONE
BEGIN:VEVENT
DTSTART;TZID=America/Halifax:20160629T150000
DTEND;TZID=America/Halifax:20160629T180000
DTSTAMP:20221113T111744
CREATED:20160607T222439Z
LAST-MODIFIED:20170324T194248Z
UID:17509-1467212400-1467223200@www.unaoc.org
SUMMARY:UNAOC Group of Friends Meeting
DESCRIPTION:Wednesday 29 June 2016\, 15:00-18:00\nTrusteeship Council Chamber\, United Nations headquarters\, New York \nThe UNAOC Group of Friends meeting will focus on the presentation of the outcomes of the 7th UNAOC Global Forum\, which UNAOC and the host Government of Azerbaijan convened on 25-27 April 2016 in Baku under the theme “Living Together in Inclusive Societies: A Challenge and A Goal”. \nDownload (PDF\, 514KB) \n\nShare thisClick to share on Twitter (Opens in new window)Click to share on Facebook (Opens in new window)Click to share on LinkedIn (Opens in new window)Click to share on Pinterest (Opens in new window)Click to share on Skype (Opens in new window)Click to share on WhatsApp (Opens in new window)Click to email a link to a friend (Opens in new window)MoreClick to share on Reddit (Opens in new window)Click to share on Tumblr (Opens in new window)Click to print (Opens in new window)Click to share on Pocket (Opens in new window)Click to share on Telegram (Opens in new window)
URL:https://www.unaoc.org/event/unaoc-group-of-friends-meeting-june2016/
LOCATION:Trusteeship Council Chamber\, UNHQ New York\, Conference Building\, UNHQ\, New York\, NY\, United States
CATEGORIES:Group of Friends Meeting
END:VEVENT
END:VCALENDAR