BEGIN:VCALENDAR
VERSION:2.0
PRODID:-//United Nations Alliance of Civilizations (UNAOC) - ECPv5.14.2.1//NONSGML v1.0//EN
CALSCALE:GREGORIAN
METHOD:PUBLISH
X-WR-CALNAME:United Nations Alliance of Civilizations (UNAOC)
X-ORIGINAL-URL:https://www.unaoc.org
X-WR-CALDESC:Events for United Nations Alliance of Civilizations (UNAOC)
BEGIN:VTIMEZONE
TZID:America/Halifax
BEGIN:DAYLIGHT
TZOFFSETFROM:-0400
TZOFFSETTO:-0300
TZNAME:ADT
DTSTART:20220313T060000
END:DAYLIGHT
BEGIN:STANDARD
TZOFFSETFROM:-0300
TZOFFSETTO:-0400
TZNAME:AST
DTSTART:20221106T050000
END:STANDARD
END:VTIMEZONE
BEGIN:VEVENT
DTSTART;TZID=America/Halifax:20220208T100000
DTEND;TZID=America/Halifax:20220208T134500
DTSTAMP:20221113T153441
CREATED:20220207T160218Z
LAST-MODIFIED:20220209T135852Z
UID:30945-1644314400-1644327900@www.unaoc.org
SUMMARY:UNAOC Group of Friends Meeting (Ambassadorial Level)
DESCRIPTION:Click here to view the livestream \n\nThe United Nations Alliance of Civilizations (UNAOC) will convene a Group of Friends meeting on Tuesday\, 8 February 2022\, from 10:00AM to 1:00PM New York time\, in the Trusteeship Council Chamber\, United Nations headquarters\, New York.  \n\n\n\nAGENDA \n\n10:00 AM – 10:20 AM Opening segment\n H.E. Mr. Miguel Angel Moratinos\,\nUnder-Secretary-General\, High Representative for UNAOC\, chairs the meeting and delivers welcoming remarks\n  H.E. Mr. José Manuel Albares Bueno\,\nMinister for Foreign Affairs\, European Union and Cooperation of Spain (video message)\n  H.E. Mr. Mevlüt Çavuşoğlu\,\nMinister of Foreign Affairs of Turkey (video message)  \n10:20 AM – 10:30 AM Overview of 2021-2022\n  Presentation on the UNAOC’s progress and activities in 2021\, as well as advocacy and programming plans in 2022\, by Ms. Nihal Saad\, Chief of Cabinet of the High Representative \n10:30 AM – 01:10 PM Plenary segment\n Interventions from Member States and International Organizations\n\n\n \n\nShare thisClick to share on Twitter (Opens in new window)Click to share on Facebook (Opens in new window)Click to share on LinkedIn (Opens in new window)Click to share on Pinterest (Opens in new window)Click to share on Skype (Opens in new window)Click to share on WhatsApp (Opens in new window)Click to email a link to a friend (Opens in new window)MoreClick to share on Reddit (Opens in new window)Click to share on Tumblr (Opens in new window)Click to print (Opens in new window)Click to share on Pocket (Opens in new window)Click to share on Telegram (Opens in new window)
URL:https://www.unaoc.org/event/unaoc-group-of-friends-meeting-ambassadorial-level/
LOCATION:Trusteeship Council Chamber\, UNHQ New York\, Conference Building\, UNHQ\, New York\, NY\, United States
CATEGORIES:Group of Friends Meeting
END:VEVENT
END:VCALENDAR