BEGIN:VCALENDAR
VERSION:2.0
PRODID:-//United Nations Alliance of Civilizations (UNAOC) - ECPv5.14.2.1//NONSGML v1.0//EN
CALSCALE:GREGORIAN
METHOD:PUBLISH
X-WR-CALNAME:United Nations Alliance of Civilizations (UNAOC)
X-ORIGINAL-URL:https://www.unaoc.org
X-WR-CALDESC:Events for United Nations Alliance of Civilizations (UNAOC)
BEGIN:VTIMEZONE
TZID:America/Halifax
BEGIN:DAYLIGHT
TZOFFSETFROM:-0400
TZOFFSETTO:-0300
TZNAME:ADT
DTSTART:20140309T060000
END:DAYLIGHT
BEGIN:STANDARD
TZOFFSETFROM:-0300
TZOFFSETTO:-0400
TZNAME:AST
DTSTART:20141102T050000
END:STANDARD
END:VTIMEZONE
BEGIN:VEVENT
DTSTART;TZID=America/Halifax:20140429T090000
DTEND;TZID=America/Halifax:20140430T180000
DTSTAMP:20221113T162858
CREATED:20140318T175501Z
LAST-MODIFIED:20140428T140612Z
UID:9762-1398762000-1398880800@www.unaoc.org
SUMMARY:UNAOC Focal Points Meeting & Preparatory Conference for 6th UNAOC Global Forum
DESCRIPTION:Doha Focal Points Meeting Program FINAL[DOC]\nLogistical Details [PDF]\nRegistration Form [DOC]\nDoha Focal Points Meeting Draft Outcome [DOC]\n\nShare thisClick to share on Twitter (Opens in new window)Click to share on Facebook (Opens in new window)Click to share on LinkedIn (Opens in new window)Click to share on Pinterest (Opens in new window)Click to share on Skype (Opens in new window)Click to share on WhatsApp (Opens in new window)Click to email a link to a friend (Opens in new window)MoreClick to share on Reddit (Opens in new window)Click to share on Tumblr (Opens in new window)Click to print (Opens in new window)Click to share on Pocket (Opens in new window)Click to share on Telegram (Opens in new window)
URL:https://www.unaoc.org/event/unaoc-focal-points-meeting-preparatory-conference-for-6th-unaoc-global-forum/
LOCATION:Doha\, Qatar\, Doha\, Qatar
END:VEVENT
END:VCALENDAR