BEGIN:VCALENDAR
VERSION:2.0
PRODID:-//United Nations Alliance of Civilizations (UNAOC) - ECPv5.14.2.1//NONSGML v1.0//EN
CALSCALE:GREGORIAN
METHOD:PUBLISH
X-WR-CALNAME:United Nations Alliance of Civilizations (UNAOC)
X-ORIGINAL-URL:https://www.unaoc.org
X-WR-CALDESC:Events for United Nations Alliance of Civilizations (UNAOC)
BEGIN:VTIMEZONE
TZID:America/Halifax
BEGIN:DAYLIGHT
TZOFFSETFROM:-0400
TZOFFSETTO:-0300
TZNAME:ADT
DTSTART:20130310T060000
END:DAYLIGHT
BEGIN:STANDARD
TZOFFSETFROM:-0300
TZOFFSETTO:-0400
TZNAME:AST
DTSTART:20131103T050000
END:STANDARD
END:VTIMEZONE
BEGIN:VEVENT
DTSTART;VALUE=DATE:20130615
DTEND;VALUE=DATE:20130616
DTSTAMP:20221113T163123
CREATED:20130528T172327Z
LAST-MODIFIED:20130528T172327Z
UID:8630-1371254400-1371254400@www.unaoc.org
SUMMARY:UNAOC-EF Summer School
DESCRIPTION:The United Nations Alliance of Civilizations (UNAOC) is collaborating with EF Education First (EF) in the context of the first UNAOC-EF Summer School\, which will take place in Tarrytown\, NY\, USA\, from 24 to 31 of August 2013. \nThis UNAOC-EF Summer School will bring together 100 youth from all over the world for a week of discussions on pressing global challenges within the context of cultural and religious diversity. Several skills-building workshops will be offered with a view to strengthen participants’ ability on topics such as peace-building\, human rights\, advocacy\, social entrepreneurship\, etc. \nThis year marks the fourth UNAOC Summer School. Youth (between 18 and 35) who are interested in attending this year’s summer school can apply at www.UNAOCEFSummerSchool.org on or before 15 June 2013. \nSelected participants will be provided with flight\, accommodation\, meals and full event access. \nFor more information about the UNAOC-EF Summer School\, please contact info@unaocefsummerschool.org. \nWe encourage you to share this message with your networks of young people who might be interested by the UNAOC-EF Summer School. \nNote: The United Nations Alliance of Civilizations (UNAOC) and EF Education First (EF) expect to officially launch UNAOC-EF Summer School in Spring 2013. However\, UNAOC and EF reserve the right to not select any applicants\, or to cancel the Summer School for any reason. UNAOC and EF accept no liability for cancelling the Summer School or for anyone’s failure to receive actual notification of cancellation. \nShare thisClick to share on Twitter (Opens in new window)Click to share on Facebook (Opens in new window)Click to share on LinkedIn (Opens in new window)Click to share on Pinterest (Opens in new window)Click to share on Skype (Opens in new window)Click to share on WhatsApp (Opens in new window)Click to email a link to a friend (Opens in new window)MoreClick to share on Reddit (Opens in new window)Click to share on Tumblr (Opens in new window)Click to print (Opens in new window)Click to share on Pocket (Opens in new window)Click to share on Telegram (Opens in new window)
URL:https://www.unaoc.org/event/unaoc-ef-summer-school/
CATEGORIES:Calls For Applications
ATTACH;FMTTYPE=image/jpeg:https://www.unaoc.org/wp-content/uploads/b-21.jpg
END:VEVENT
END:VCALENDAR