BEGIN:VCALENDAR
VERSION:2.0
PRODID:-//United Nations Alliance of Civilizations (UNAOC) - ECPv5.14.2.1//NONSGML v1.0//EN
CALSCALE:GREGORIAN
METHOD:PUBLISH
X-WR-CALNAME:United Nations Alliance of Civilizations (UNAOC)
X-ORIGINAL-URL:https://www.unaoc.org
X-WR-CALDESC:Events for United Nations Alliance of Civilizations (UNAOC)
BEGIN:VTIMEZONE
TZID:America/Halifax
BEGIN:DAYLIGHT
TZOFFSETFROM:-0400
TZOFFSETTO:-0300
TZNAME:ADT
DTSTART:20130310T060000
END:DAYLIGHT
BEGIN:STANDARD
TZOFFSETFROM:-0300
TZOFFSETTO:-0400
TZNAME:AST
DTSTART:20131103T050000
END:STANDARD
END:VTIMEZONE
BEGIN:VEVENT
DTSTART;VALUE=DATE:20130824
DTEND;VALUE=DATE:20130901
DTSTAMP:20221113T163115
CREATED:20130619T201338Z
LAST-MODIFIED:20130619T201338Z
UID:8798-1377302400-1377907200@www.unaoc.org
SUMMARY:UNAOC-EF Summer School
DESCRIPTION:From 24 to 31 of August\, the UNAOC-EF Summer School will take place in Tarrytown\, NY\, USA. A total of 100 youth from various backgrounds will gather there to build the skills needed for our interconnected world. \nFor more information on the UNAOC-EF Summer School please visit the website http://www.unaocefsummerschool.org/ \nShare thisClick to share on Twitter (Opens in new window)Click to share on Facebook (Opens in new window)Click to share on LinkedIn (Opens in new window)Click to share on Pinterest (Opens in new window)Click to share on Skype (Opens in new window)Click to share on WhatsApp (Opens in new window)Click to email a link to a friend (Opens in new window)MoreClick to share on Reddit (Opens in new window)Click to share on Tumblr (Opens in new window)Click to print (Opens in new window)Click to share on Pocket (Opens in new window)Click to share on Telegram (Opens in new window)
URL:https://www.unaoc.org/event/unaoc-ef-summer-school-2/
ATTACH;FMTTYPE=image/jpeg:https://www.unaoc.org/wp-content/uploads/unaoc-slide2.jpg
END:VEVENT
END:VCALENDAR